BEGIN:VCALENDAR
VERSION:2.0
PRODID:-//Huntley Community Association - ECPv6.15.16//NONSGML v1.0//EN
CALSCALE:GREGORIAN
METHOD:PUBLISH
X-WR-CALNAME:Huntley Community Association
X-ORIGINAL-URL:https://hca-carp.ca
X-WR-CALDESC:Events for Huntley Community Association
REFRESH-INTERVAL;VALUE=DURATION:PT1H
X-Robots-Tag:noindex
X-PUBLISHED-TTL:PT1H
BEGIN:VTIMEZONE
TZID:America/Toronto
BEGIN:DAYLIGHT
TZOFFSETFROM:-0500
TZOFFSETTO:-0400
TZNAME:EDT
DTSTART:20250309T070000
END:DAYLIGHT
BEGIN:STANDARD
TZOFFSETFROM:-0400
TZOFFSETTO:-0500
TZNAME:EST
DTSTART:20251102T060000
END:STANDARD
BEGIN:DAYLIGHT
TZOFFSETFROM:-0500
TZOFFSETTO:-0400
TZNAME:EDT
DTSTART:20260308T070000
END:DAYLIGHT
BEGIN:STANDARD
TZOFFSETFROM:-0400
TZOFFSETTO:-0500
TZNAME:EST
DTSTART:20261101T060000
END:STANDARD
BEGIN:DAYLIGHT
TZOFFSETFROM:-0500
TZOFFSETTO:-0400
TZNAME:EDT
DTSTART:20270314T070000
END:DAYLIGHT
BEGIN:STANDARD
TZOFFSETFROM:-0400
TZOFFSETTO:-0500
TZNAME:EST
DTSTART:20271107T060000
END:STANDARD
END:VTIMEZONE
BEGIN:VEVENT
DTSTART;TZID=America/Toronto:20260226T190000
DTEND;TZID=America/Toronto:20260226T200000
DTSTAMP:20260419T095752
CREATED:20260107T025609Z
LAST-MODIFIED:20260107T025612Z
UID:10001403-1772132400-1772136000@hca-carp.ca
SUMMARY:Ringette
DESCRIPTION:
URL:https://hca-carp.ca/calendar/ringette/2026-02-26/
LOCATION:Huntley Community Centre\, 108 Juanita Ave\, Carp\, Ontario\, Canada
CATEGORIES:Facility Availability,HCA Events,HCC Events,ODR Events
ORGANIZER;CN="Huntley Community Association":MAILTO:info@hca-carp.ca
END:VEVENT
BEGIN:VEVENT
DTSTART;TZID=America/Toronto:20260226T200000
DTEND;TZID=America/Toronto:20260226T210000
DTSTAMP:20260419T095752
CREATED:20260107T030030Z
LAST-MODIFIED:20260107T030034Z
UID:10001413-1772136000-1772139600@hca-carp.ca
SUMMARY:Rental Available
DESCRIPTION:
URL:https://hca-carp.ca/calendar/rental-available/2026-02-26/
LOCATION:Huntley Community Centre\, 108 Juanita Ave\, Carp\, Ontario\, Canada
CATEGORIES:Facility Availability,HCA Events,HCC Events,ODR Events
ORGANIZER;CN="Huntley Community Association":MAILTO:info@hca-carp.ca
END:VEVENT
END:VCALENDAR