BEGIN:VCALENDAR
VERSION:2.0
PRODID:-//Huntley Community Association - ECPv6.15.16//NONSGML v1.0//EN
CALSCALE:GREGORIAN
METHOD:PUBLISH
X-ORIGINAL-URL:https://hca-carp.ca
X-WR-CALDESC:Events for Huntley Community Association
REFRESH-INTERVAL;VALUE=DURATION:PT1H
X-Robots-Tag:noindex
X-PUBLISHED-TTL:PT1H
BEGIN:VTIMEZONE
TZID:America/Toronto
BEGIN:DAYLIGHT
TZOFFSETFROM:-0500
TZOFFSETTO:-0400
TZNAME:EDT
DTSTART:20250309T070000
END:DAYLIGHT
BEGIN:STANDARD
TZOFFSETFROM:-0400
TZOFFSETTO:-0500
TZNAME:EST
DTSTART:20251102T060000
END:STANDARD
BEGIN:DAYLIGHT
TZOFFSETFROM:-0500
TZOFFSETTO:-0400
TZNAME:EDT
DTSTART:20260308T070000
END:DAYLIGHT
BEGIN:STANDARD
TZOFFSETFROM:-0400
TZOFFSETTO:-0500
TZNAME:EST
DTSTART:20261101T060000
END:STANDARD
BEGIN:DAYLIGHT
TZOFFSETFROM:-0500
TZOFFSETTO:-0400
TZNAME:EDT
DTSTART:20270314T070000
END:DAYLIGHT
BEGIN:STANDARD
TZOFFSETFROM:-0400
TZOFFSETTO:-0500
TZNAME:EST
DTSTART:20271107T060000
END:STANDARD
END:VTIMEZONE
BEGIN:VEVENT
DTSTART;TZID=America/Toronto:20260310T120000
DTEND;TZID=America/Toronto:20260310T133000
DTSTAMP:20260421T142105
CREATED:20260107T164806Z
LAST-MODIFIED:20260107T164810Z
UID:10001499-1773144000-1773149400@hca-carp.ca
SUMMARY:Senior's Fitness
DESCRIPTION:
URL:https://hca-carp.ca/calendar/seniors-fitness/2026-03-10/
LOCATION:Mess Hall\, 2240 Craig Side Road\, Carp\, Ontario\, K0A1L0\, Canada
CATEGORIES:Facility Availability,Messhall Events
END:VEVENT
BEGIN:VEVENT
DTSTART;TZID=America/Toronto:20260310T180000
DTEND;TZID=America/Toronto:20260310T210000
DTSTAMP:20260421T142105
CREATED:20260107T165325Z
LAST-MODIFIED:20260107T165329Z
UID:10001518-1773165600-1773176400@hca-carp.ca
SUMMARY:Beavers
DESCRIPTION:
URL:https://hca-carp.ca/calendar/beavers/2026-03-10/
LOCATION:Mess Hall\, 2240 Craig Side Road\, Carp\, Ontario\, K0A1L0\, Canada
CATEGORIES:Facility Availability,HCA Events,Messhall Events
ORGANIZER;CN="Huntley Community Association":MAILTO:info@hca-carp.ca
END:VEVENT
BEGIN:VEVENT
DTSTART;TZID=America/Toronto:20260311T180000
DTEND;TZID=America/Toronto:20260311T200000
DTSTAMP:20260421T142105
CREATED:20260107T165527Z
LAST-MODIFIED:20260107T165530Z
UID:10001542-1773252000-1773259200@hca-carp.ca
SUMMARY:Girl Guides
DESCRIPTION:
URL:https://hca-carp.ca/calendar/girl-guides/2026-03-11/
LOCATION:Mess Hall\, 2240 Craig Side Road\, Carp\, Ontario\, K0A1L0\, Canada
CATEGORIES:Facility Availability,HCA Events,Messhall Events
ORGANIZER;CN="Huntley Community Association":MAILTO:info@hca-carp.ca
END:VEVENT
BEGIN:VEVENT
DTSTART;TZID=America/Toronto:20260312T120000
DTEND;TZID=America/Toronto:20260312T133000
DTSTAMP:20260421T142105
CREATED:20260107T165024Z
LAST-MODIFIED:20260107T165027Z
UID:10001508-1773316800-1773322200@hca-carp.ca
SUMMARY:Senior's Fitness
DESCRIPTION:
URL:https://hca-carp.ca/calendar/seniors-fitness-2/2026-03-12/
LOCATION:Mess Hall\, 2240 Craig Side Road\, Carp\, Ontario\, K0A1L0\, Canada
CATEGORIES:Facility Availability,Messhall Events
END:VEVENT
BEGIN:VEVENT
DTSTART;TZID=America/Toronto:20260312T190000
DTEND;TZID=America/Toronto:20260312T210000
DTSTAMP:20260421T142105
CREATED:20260107T170530Z
LAST-MODIFIED:20260107T170533Z
UID:10001585-1773342000-1773349200@hca-carp.ca
SUMMARY:HCA Board Meeting
DESCRIPTION:
URL:https://hca-carp.ca/calendar/hca-board-meeting/2026-03-12/
LOCATION:Mess Hall\, 2240 Craig Side Road\, Carp\, Ontario\, K0A1L0\, Canada
CATEGORIES:Facility Availability,HCA Events,Messhall Events
ORGANIZER;CN="Huntley Community Association":MAILTO:info@hca-carp.ca
END:VEVENT
BEGIN:VEVENT
DTSTART;TZID=America/Toronto:20260313T100000
DTEND;TZID=America/Toronto:20260313T110000
DTSTAMP:20260421T142105
CREATED:20260107T161540Z
LAST-MODIFIED:20260107T161544Z
UID:10001488-1773396000-1773399600@hca-carp.ca
SUMMARY:Yoga
DESCRIPTION:
URL:https://hca-carp.ca/calendar/yoga/2026-03-13/
LOCATION:Mess Hall\, 2240 Craig Side Road\, Carp\, Ontario\, K0A1L0\, Canada
CATEGORIES:Facility Availability,HCA Events,Messhall Events
ORGANIZER;CN="Huntley Community Association":MAILTO:info@hca-carp.ca
END:VEVENT
BEGIN:VEVENT
DTSTART;TZID=America/Toronto:20260313T190000
DTEND;TZID=America/Toronto:20260313T220000
DTSTAMP:20260421T142105
CREATED:20260107T165732Z
LAST-MODIFIED:20260107T165735Z
UID:10001567-1773428400-1773439200@hca-carp.ca
SUMMARY:Private Event
DESCRIPTION:
URL:https://hca-carp.ca/calendar/private-event-16/2026-03-13/
LOCATION:Mess Hall\, 2240 Craig Side Road\, Carp\, Ontario\, K0A1L0\, Canada
CATEGORIES:Facility Availability,HCA Events,Messhall Events
ORGANIZER;CN="Huntley Community Association":MAILTO:info@hca-carp.ca
END:VEVENT
END:VCALENDAR