BEGIN:VCALENDAR
VERSION:2.0
PRODID:-//Huntley Community Association - ECPv6.15.16//NONSGML v1.0//EN
CALSCALE:GREGORIAN
METHOD:PUBLISH
X-ORIGINAL-URL:https://hca-carp.ca
X-WR-CALDESC:Events for Huntley Community Association
REFRESH-INTERVAL;VALUE=DURATION:PT1H
X-Robots-Tag:noindex
X-PUBLISHED-TTL:PT1H
BEGIN:VTIMEZONE
TZID:America/Toronto
BEGIN:DAYLIGHT
TZOFFSETFROM:-0500
TZOFFSETTO:-0400
TZNAME:EDT
DTSTART:20240310T070000
END:DAYLIGHT
BEGIN:STANDARD
TZOFFSETFROM:-0400
TZOFFSETTO:-0500
TZNAME:EST
DTSTART:20241103T060000
END:STANDARD
BEGIN:DAYLIGHT
TZOFFSETFROM:-0500
TZOFFSETTO:-0400
TZNAME:EDT
DTSTART:20250309T070000
END:DAYLIGHT
BEGIN:STANDARD
TZOFFSETFROM:-0400
TZOFFSETTO:-0500
TZNAME:EST
DTSTART:20251102T060000
END:STANDARD
BEGIN:DAYLIGHT
TZOFFSETFROM:-0500
TZOFFSETTO:-0400
TZNAME:EDT
DTSTART:20260308T070000
END:DAYLIGHT
BEGIN:STANDARD
TZOFFSETFROM:-0400
TZOFFSETTO:-0500
TZNAME:EST
DTSTART:20261101T060000
END:STANDARD
END:VTIMEZONE
BEGIN:VEVENT
DTSTART;TZID=America/Toronto:20251012T080000
DTEND;TZID=America/Toronto:20251012T220000
DTSTAMP:20260423T050131
CREATED:20250901T182646Z
LAST-MODIFIED:20250901T185931Z
UID:10001361-1760256000-1760306400@hca-carp.ca
SUMMARY:Private Event
DESCRIPTION:
URL:https://hca-carp.ca/calendar/private-event-38/
LOCATION:Ontario
CATEGORIES:Facility Availability,Messhall Events
END:VEVENT
BEGIN:VEVENT
DTSTART;TZID=America/Toronto:20251016T130000
DTEND;TZID=America/Toronto:20251016T160000
DTSTAMP:20260423T050131
CREATED:20241212T135018Z
LAST-MODIFIED:20241212T135021Z
UID:10001090-1760619600-1760630400@hca-carp.ca
SUMMARY:Huntley Township Historical Society
DESCRIPTION:
URL:https://hca-carp.ca/calendar/huntley-township-historical-society-9/
LOCATION:Mess Hall\, 2240 Craig Side Road\, Carp\, Ontario\, K0A1L0\, Canada
CATEGORIES:Facility Availability,Messhall Events
END:VEVENT
BEGIN:VEVENT
DTSTART;TZID=America/Toronto:20251018T000000
DTEND;TZID=America/Toronto:20251018T235959
DTSTAMP:20260423T050131
CREATED:20250727T180022Z
LAST-MODIFIED:20250727T180026Z
UID:10001351-1760745600-1760831999@hca-carp.ca
SUMMARY:HCA Pickleball
DESCRIPTION:
URL:https://hca-carp.ca/calendar/hca-pickleball/
LOCATION:Ontario
CATEGORIES:Facility Availability,Messhall Events
END:VEVENT
END:VCALENDAR