BEGIN:VCALENDAR
VERSION:2.0
PRODID:-//Huntley Community Association - ECPv6.15.16//NONSGML v1.0//EN
CALSCALE:GREGORIAN
METHOD:PUBLISH
X-ORIGINAL-URL:https://hca-carp.ca
X-WR-CALDESC:Events for Huntley Community Association
REFRESH-INTERVAL;VALUE=DURATION:PT1H
X-Robots-Tag:noindex
X-PUBLISHED-TTL:PT1H
BEGIN:VTIMEZONE
TZID:America/Toronto
BEGIN:DAYLIGHT
TZOFFSETFROM:-0500
TZOFFSETTO:-0400
TZNAME:EDT
DTSTART:20240310T070000
END:DAYLIGHT
BEGIN:STANDARD
TZOFFSETFROM:-0400
TZOFFSETTO:-0500
TZNAME:EST
DTSTART:20241103T060000
END:STANDARD
BEGIN:DAYLIGHT
TZOFFSETFROM:-0500
TZOFFSETTO:-0400
TZNAME:EDT
DTSTART:20250309T070000
END:DAYLIGHT
BEGIN:STANDARD
TZOFFSETFROM:-0400
TZOFFSETTO:-0500
TZNAME:EST
DTSTART:20251102T060000
END:STANDARD
BEGIN:DAYLIGHT
TZOFFSETFROM:-0500
TZOFFSETTO:-0400
TZNAME:EDT
DTSTART:20260308T070000
END:DAYLIGHT
BEGIN:STANDARD
TZOFFSETFROM:-0400
TZOFFSETTO:-0500
TZNAME:EST
DTSTART:20261101T060000
END:STANDARD
END:VTIMEZONE
BEGIN:VEVENT
DTSTART;TZID=America/Toronto:20250520T113000
DTEND;TZID=America/Toronto:20250520T130000
DTSTAMP:20260422T132831
CREATED:20250411T150347Z
LAST-MODIFIED:20250411T150350Z
UID:10001253-1747740600-1747746000@hca-carp.ca
SUMMARY:Seniors Fitness
DESCRIPTION:
URL:https://hca-carp.ca/calendar/seniors-fitness-25/2025-05-20/
LOCATION:Mess Hall\, 2240 Craig Side Road\, Carp\, Ontario\, K0A1L0\, Canada
CATEGORIES:Facility Availability,Messhall Events
END:VEVENT
BEGIN:VEVENT
DTSTART;TZID=America/Toronto:20250520T180000
DTEND;TZID=America/Toronto:20250520T200000
DTSTAMP:20260422T132831
CREATED:20241113T190237Z
LAST-MODIFIED:20241113T190240Z
UID:10000993-1747764000-1747771200@hca-carp.ca
SUMMARY:Beavers
DESCRIPTION:
URL:https://hca-carp.ca/calendar/beavers-11/2025-05-20/
LOCATION:Mess Hall\, 2240 Craig Side Road\, Carp\, Ontario\, K0A1L0\, Canada
CATEGORIES:Facility Availability,Messhall Events
END:VEVENT
BEGIN:VEVENT
DTSTART;TZID=America/Toronto:20250521T180000
DTEND;TZID=America/Toronto:20250521T200000
DTSTAMP:20260422T132831
CREATED:20241113T190411Z
LAST-MODIFIED:20241113T190414Z
UID:10001018-1747850400-1747857600@hca-carp.ca
SUMMARY:Girl Guides
DESCRIPTION:
URL:https://hca-carp.ca/calendar/girl-guides-7/2025-05-21/
LOCATION:Mess Hall\, 2240 Craig Side Road\, Carp\, Ontario\, K0A1L0\, Canada
CATEGORIES:Facility Availability,Messhall Events
END:VEVENT
BEGIN:VEVENT
DTSTART;TZID=America/Toronto:20250522T113000
DTEND;TZID=America/Toronto:20250522T130000
DTSTAMP:20260422T132831
CREATED:20250411T150722Z
LAST-MODIFIED:20250411T150727Z
UID:10001265-1747913400-1747918800@hca-carp.ca
SUMMARY:Seniors Fitness
DESCRIPTION:
URL:https://hca-carp.ca/calendar/seniors-fitness-26/2025-05-22/
LOCATION:Mess Hall\, 2240 Craig Side Road\, Carp\, Ontario\, K0A1L0\, Canada
CATEGORIES:Facility Availability,Messhall Events
END:VEVENT
BEGIN:VEVENT
DTSTART;TZID=America/Toronto:20250522T130000
DTEND;TZID=America/Toronto:20250522T160000
DTSTAMP:20260422T132831
CREATED:20241212T134919Z
LAST-MODIFIED:20241212T134921Z
UID:10001089-1747918800-1747929600@hca-carp.ca
SUMMARY:Huntley Township Historical Society
DESCRIPTION:
URL:https://hca-carp.ca/calendar/huntley-township-historical-society-8/
LOCATION:Mess Hall\, 2240 Craig Side Road\, Carp\, Ontario\, K0A1L0\, Canada
CATEGORIES:Facility Availability,Messhall Events
END:VEVENT
BEGIN:VEVENT
DTSTART;TZID=America/Toronto:20250523T100000
DTEND;TZID=America/Toronto:20250523T120000
DTSTAMP:20260422T132831
CREATED:20250411T151034Z
LAST-MODIFIED:20250411T151316Z
UID:10001275-1747994400-1748001600@hca-carp.ca
SUMMARY:Yoga Class
DESCRIPTION:
URL:https://hca-carp.ca/calendar/yoga-class-2/2025-05-23/
LOCATION:Mess Hall\, 2240 Craig Side Road\, Carp\, Ontario\, K0A1L0\, Canada
CATEGORIES:Facility Availability,HCA Events,Messhall Events
ORGANIZER;CN="Huntley Community Association":MAILTO:info@hca-carp.ca
END:VEVENT
BEGIN:VEVENT
DTSTART;TZID=America/Toronto:20250523T190000
DTEND;TZID=America/Toronto:20250523T220000
DTSTAMP:20260422T132831
CREATED:20250411T145338Z
LAST-MODIFIED:20250411T145543Z
UID:10001182-1748026800-1748037600@hca-carp.ca
SUMMARY:Private Event
DESCRIPTION:
URL:https://hca-carp.ca/calendar/private-event-94/2025-05-23/
LOCATION:Mess Hall\, 2240 Craig Side Road\, Carp\, Ontario\, K0A1L0\, Canada
CATEGORIES:Facility Availability,HCA Events,Messhall Events
ORGANIZER;CN="Huntley Community Association":MAILTO:info@hca-carp.ca
END:VEVENT
END:VCALENDAR