BEGIN:VCALENDAR
VERSION:2.0
PRODID:-//Huntley Community Association - ECPv6.15.16//NONSGML v1.0//EN
CALSCALE:GREGORIAN
METHOD:PUBLISH
X-WR-CALNAME:Huntley Community Association
X-ORIGINAL-URL:https://hca-carp.ca
X-WR-CALDESC:Events for Huntley Community Association
REFRESH-INTERVAL;VALUE=DURATION:PT1H
X-Robots-Tag:noindex
X-PUBLISHED-TTL:PT1H
BEGIN:VTIMEZONE
TZID:America/Toronto
BEGIN:DAYLIGHT
TZOFFSETFROM:-0500
TZOFFSETTO:-0400
TZNAME:EDT
DTSTART:20250309T070000
END:DAYLIGHT
BEGIN:STANDARD
TZOFFSETFROM:-0400
TZOFFSETTO:-0500
TZNAME:EST
DTSTART:20251102T060000
END:STANDARD
BEGIN:DAYLIGHT
TZOFFSETFROM:-0500
TZOFFSETTO:-0400
TZNAME:EDT
DTSTART:20260308T070000
END:DAYLIGHT
BEGIN:STANDARD
TZOFFSETFROM:-0400
TZOFFSETTO:-0500
TZNAME:EST
DTSTART:20261101T060000
END:STANDARD
BEGIN:DAYLIGHT
TZOFFSETFROM:-0500
TZOFFSETTO:-0400
TZNAME:EDT
DTSTART:20270314T070000
END:DAYLIGHT
BEGIN:STANDARD
TZOFFSETFROM:-0400
TZOFFSETTO:-0500
TZNAME:EST
DTSTART:20271107T060000
END:STANDARD
END:VTIMEZONE
BEGIN:VEVENT
DTSTART;TZID=America/Toronto:20260106T180000
DTEND;TZID=America/Toronto:20260106T210000
DTSTAMP:20260420T071818
CREATED:20260107T165325Z
LAST-MODIFIED:20260107T165329Z
UID:10001509-1767722400-1767733200@hca-carp.ca
SUMMARY:Beavers
DESCRIPTION:
URL:https://hca-carp.ca/calendar/beavers/2026-01-06/
LOCATION:Mess Hall\, 2240 Craig Side Road\, Carp\, Ontario\, K0A1L0\, Canada
CATEGORIES:Facility Availability,HCA Events,Messhall Events
ORGANIZER;CN="Huntley Community Association":MAILTO:info@hca-carp.ca
END:VEVENT
BEGIN:VEVENT
DTSTART;TZID=America/Toronto:20260107T180000
DTEND;TZID=America/Toronto:20260107T200000
DTSTAMP:20260420T071818
CREATED:20260107T165527Z
LAST-MODIFIED:20260107T165530Z
UID:10001533-1767808800-1767816000@hca-carp.ca
SUMMARY:Girl Guides
DESCRIPTION:
URL:https://hca-carp.ca/calendar/girl-guides/2026-01-07/
LOCATION:Mess Hall\, 2240 Craig Side Road\, Carp\, Ontario\, K0A1L0\, Canada
CATEGORIES:Facility Availability,HCA Events,Messhall Events
ORGANIZER;CN="Huntley Community Association":MAILTO:info@hca-carp.ca
END:VEVENT
BEGIN:VEVENT
DTSTART;TZID=America/Toronto:20260108T190000
DTEND;TZID=America/Toronto:20260108T210000
DTSTAMP:20260420T071818
CREATED:20260107T170530Z
LAST-MODIFIED:20260107T170533Z
UID:10001583-1767898800-1767906000@hca-carp.ca
SUMMARY:HCA Board Meeting
DESCRIPTION:
URL:https://hca-carp.ca/calendar/hca-board-meeting/2026-01-08/
LOCATION:Mess Hall\, 2240 Craig Side Road\, Carp\, Ontario\, K0A1L0\, Canada
CATEGORIES:Facility Availability,HCA Events,Messhall Events
ORGANIZER;CN="Huntley Community Association":MAILTO:info@hca-carp.ca
END:VEVENT
BEGIN:VEVENT
DTSTART;TZID=America/Toronto:20260109T100000
DTEND;TZID=America/Toronto:20260109T110000
DTSTAMP:20260420T071818
CREATED:20260107T161540Z
LAST-MODIFIED:20260107T161544Z
UID:10001480-1767952800-1767956400@hca-carp.ca
SUMMARY:Yoga
DESCRIPTION:
URL:https://hca-carp.ca/calendar/yoga/2026-01-09/
LOCATION:Mess Hall\, 2240 Craig Side Road\, Carp\, Ontario\, K0A1L0\, Canada
CATEGORIES:Facility Availability,HCA Events,Messhall Events
ORGANIZER;CN="Huntley Community Association":MAILTO:info@hca-carp.ca
END:VEVENT
BEGIN:VEVENT
DTSTART;TZID=America/Toronto:20260109T190000
DTEND;TZID=America/Toronto:20260109T220000
DTSTAMP:20260420T071818
CREATED:20260107T165732Z
LAST-MODIFIED:20260107T165735Z
UID:10001558-1767985200-1767996000@hca-carp.ca
SUMMARY:Private Event
DESCRIPTION:
URL:https://hca-carp.ca/calendar/private-event-16/2026-01-09/
LOCATION:Mess Hall\, 2240 Craig Side Road\, Carp\, Ontario\, K0A1L0\, Canada
CATEGORIES:Facility Availability,HCA Events,Messhall Events
ORGANIZER;CN="Huntley Community Association":MAILTO:info@hca-carp.ca
END:VEVENT
BEGIN:VEVENT
DTSTART;TZID=America/Toronto:20260113T120000
DTEND;TZID=America/Toronto:20260113T133000
DTSTAMP:20260420T071818
CREATED:20260107T164806Z
LAST-MODIFIED:20260107T164810Z
UID:10001491-1768305600-1768311000@hca-carp.ca
SUMMARY:Senior's Fitness
DESCRIPTION:
URL:https://hca-carp.ca/calendar/seniors-fitness/2026-01-13/
LOCATION:Mess Hall\, 2240 Craig Side Road\, Carp\, Ontario\, K0A1L0\, Canada
CATEGORIES:Facility Availability,Messhall Events
END:VEVENT
BEGIN:VEVENT
DTSTART;TZID=America/Toronto:20260113T180000
DTEND;TZID=America/Toronto:20260113T210000
DTSTAMP:20260420T071818
CREATED:20260107T165325Z
LAST-MODIFIED:20260107T165329Z
UID:10001510-1768327200-1768338000@hca-carp.ca
SUMMARY:Beavers
DESCRIPTION:
URL:https://hca-carp.ca/calendar/beavers/2026-01-13/
LOCATION:Mess Hall\, 2240 Craig Side Road\, Carp\, Ontario\, K0A1L0\, Canada
CATEGORIES:Facility Availability,HCA Events,Messhall Events
ORGANIZER;CN="Huntley Community Association":MAILTO:info@hca-carp.ca
END:VEVENT
BEGIN:VEVENT
DTSTART;TZID=America/Toronto:20260114T180000
DTEND;TZID=America/Toronto:20260114T200000
DTSTAMP:20260420T071818
CREATED:20260107T165527Z
LAST-MODIFIED:20260107T165530Z
UID:10001534-1768413600-1768420800@hca-carp.ca
SUMMARY:Girl Guides
DESCRIPTION:
URL:https://hca-carp.ca/calendar/girl-guides/2026-01-14/
LOCATION:Mess Hall\, 2240 Craig Side Road\, Carp\, Ontario\, K0A1L0\, Canada
CATEGORIES:Facility Availability,HCA Events,Messhall Events
ORGANIZER;CN="Huntley Community Association":MAILTO:info@hca-carp.ca
END:VEVENT
BEGIN:VEVENT
DTSTART;TZID=America/Toronto:20260115T120000
DTEND;TZID=America/Toronto:20260115T133000
DTSTAMP:20260420T071818
CREATED:20260107T165024Z
LAST-MODIFIED:20260107T165027Z
UID:10001500-1768478400-1768483800@hca-carp.ca
SUMMARY:Senior's Fitness
DESCRIPTION:
URL:https://hca-carp.ca/calendar/seniors-fitness-2/2026-01-15/
LOCATION:Mess Hall\, 2240 Craig Side Road\, Carp\, Ontario\, K0A1L0\, Canada
CATEGORIES:Facility Availability,Messhall Events
END:VEVENT
BEGIN:VEVENT
DTSTART;TZID=America/Toronto:20260116T100000
DTEND;TZID=America/Toronto:20260116T110000
DTSTAMP:20260420T071818
CREATED:20260107T161540Z
LAST-MODIFIED:20260107T161544Z
UID:10001481-1768557600-1768561200@hca-carp.ca
SUMMARY:Yoga
DESCRIPTION:
URL:https://hca-carp.ca/calendar/yoga/2026-01-16/
LOCATION:Mess Hall\, 2240 Craig Side Road\, Carp\, Ontario\, K0A1L0\, Canada
CATEGORIES:Facility Availability,HCA Events,Messhall Events
ORGANIZER;CN="Huntley Community Association":MAILTO:info@hca-carp.ca
END:VEVENT
BEGIN:VEVENT
DTSTART;TZID=America/Toronto:20260116T190000
DTEND;TZID=America/Toronto:20260116T220000
DTSTAMP:20260420T071818
CREATED:20260107T165732Z
LAST-MODIFIED:20260107T165735Z
UID:10001559-1768590000-1768600800@hca-carp.ca
SUMMARY:Private Event
DESCRIPTION:
URL:https://hca-carp.ca/calendar/private-event-16/2026-01-16/
LOCATION:Mess Hall\, 2240 Craig Side Road\, Carp\, Ontario\, K0A1L0\, Canada
CATEGORIES:Facility Availability,HCA Events,Messhall Events
ORGANIZER;CN="Huntley Community Association":MAILTO:info@hca-carp.ca
END:VEVENT
BEGIN:VEVENT
DTSTART;TZID=America/Toronto:20260120T120000
DTEND;TZID=America/Toronto:20260120T133000
DTSTAMP:20260420T071818
CREATED:20260107T164806Z
LAST-MODIFIED:20260107T164810Z
UID:10001492-1768910400-1768915800@hca-carp.ca
SUMMARY:Senior's Fitness
DESCRIPTION:
URL:https://hca-carp.ca/calendar/seniors-fitness/2026-01-20/
LOCATION:Mess Hall\, 2240 Craig Side Road\, Carp\, Ontario\, K0A1L0\, Canada
CATEGORIES:Facility Availability,Messhall Events
END:VEVENT
BEGIN:VEVENT
DTSTART;TZID=America/Toronto:20260120T180000
DTEND;TZID=America/Toronto:20260120T210000
DTSTAMP:20260420T071818
CREATED:20260107T165325Z
LAST-MODIFIED:20260107T165329Z
UID:10001511-1768932000-1768942800@hca-carp.ca
SUMMARY:Beavers
DESCRIPTION:
URL:https://hca-carp.ca/calendar/beavers/2026-01-20/
LOCATION:Mess Hall\, 2240 Craig Side Road\, Carp\, Ontario\, K0A1L0\, Canada
CATEGORIES:Facility Availability,HCA Events,Messhall Events
ORGANIZER;CN="Huntley Community Association":MAILTO:info@hca-carp.ca
END:VEVENT
BEGIN:VEVENT
DTSTART;TZID=America/Toronto:20260121T180000
DTEND;TZID=America/Toronto:20260121T200000
DTSTAMP:20260420T071818
CREATED:20260107T165527Z
LAST-MODIFIED:20260107T165530Z
UID:10001535-1769018400-1769025600@hca-carp.ca
SUMMARY:Girl Guides
DESCRIPTION:
URL:https://hca-carp.ca/calendar/girl-guides/2026-01-21/
LOCATION:Mess Hall\, 2240 Craig Side Road\, Carp\, Ontario\, K0A1L0\, Canada
CATEGORIES:Facility Availability,HCA Events,Messhall Events
ORGANIZER;CN="Huntley Community Association":MAILTO:info@hca-carp.ca
END:VEVENT
BEGIN:VEVENT
DTSTART;TZID=America/Toronto:20260122T120000
DTEND;TZID=America/Toronto:20260122T133000
DTSTAMP:20260420T071818
CREATED:20260107T165024Z
LAST-MODIFIED:20260107T165027Z
UID:10001501-1769083200-1769088600@hca-carp.ca
SUMMARY:Senior's Fitness
DESCRIPTION:
URL:https://hca-carp.ca/calendar/seniors-fitness-2/2026-01-22/
LOCATION:Mess Hall\, 2240 Craig Side Road\, Carp\, Ontario\, K0A1L0\, Canada
CATEGORIES:Facility Availability,Messhall Events
END:VEVENT
BEGIN:VEVENT
DTSTART;TZID=America/Toronto:20260122T140000
DTEND;TZID=America/Toronto:20260122T160000
DTSTAMP:20260420T071818
CREATED:20260112T144754Z
LAST-MODIFIED:20260112T144759Z
UID:10001591-1769090400-1769097600@hca-carp.ca
SUMMARY:Huntley Township Historical Society
DESCRIPTION:
URL:https://hca-carp.ca/calendar/huntley-township-historical-society/
LOCATION:Mess Hall\, 2240 Craig Side Road\, Carp\, Ontario\, K0A1L0\, Canada
CATEGORIES:Facility Availability,Messhall Events
END:VEVENT
BEGIN:VEVENT
DTSTART;TZID=America/Toronto:20260123T100000
DTEND;TZID=America/Toronto:20260123T110000
DTSTAMP:20260420T071818
CREATED:20260107T161540Z
LAST-MODIFIED:20260107T161544Z
UID:10001482-1769162400-1769166000@hca-carp.ca
SUMMARY:Yoga
DESCRIPTION:
URL:https://hca-carp.ca/calendar/yoga/2026-01-23/
LOCATION:Mess Hall\, 2240 Craig Side Road\, Carp\, Ontario\, K0A1L0\, Canada
CATEGORIES:Facility Availability,HCA Events,Messhall Events
ORGANIZER;CN="Huntley Community Association":MAILTO:info@hca-carp.ca
END:VEVENT
BEGIN:VEVENT
DTSTART;TZID=America/Toronto:20260123T190000
DTEND;TZID=America/Toronto:20260123T220000
DTSTAMP:20260420T071818
CREATED:20260107T165732Z
LAST-MODIFIED:20260107T165735Z
UID:10001560-1769194800-1769205600@hca-carp.ca
SUMMARY:Private Event
DESCRIPTION:
URL:https://hca-carp.ca/calendar/private-event-16/2026-01-23/
LOCATION:Mess Hall\, 2240 Craig Side Road\, Carp\, Ontario\, K0A1L0\, Canada
CATEGORIES:Facility Availability,HCA Events,Messhall Events
ORGANIZER;CN="Huntley Community Association":MAILTO:info@hca-carp.ca
END:VEVENT
BEGIN:VEVENT
DTSTART;TZID=America/Toronto:20260127T120000
DTEND;TZID=America/Toronto:20260127T133000
DTSTAMP:20260420T071818
CREATED:20260107T164806Z
LAST-MODIFIED:20260107T164810Z
UID:10001493-1769515200-1769520600@hca-carp.ca
SUMMARY:Senior's Fitness
DESCRIPTION:
URL:https://hca-carp.ca/calendar/seniors-fitness/2026-01-27/
LOCATION:Mess Hall\, 2240 Craig Side Road\, Carp\, Ontario\, K0A1L0\, Canada
CATEGORIES:Facility Availability,Messhall Events
END:VEVENT
BEGIN:VEVENT
DTSTART;TZID=America/Toronto:20260127T180000
DTEND;TZID=America/Toronto:20260127T210000
DTSTAMP:20260420T071818
CREATED:20260107T165325Z
LAST-MODIFIED:20260107T165329Z
UID:10001512-1769536800-1769547600@hca-carp.ca
SUMMARY:Beavers
DESCRIPTION:
URL:https://hca-carp.ca/calendar/beavers/2026-01-27/
LOCATION:Mess Hall\, 2240 Craig Side Road\, Carp\, Ontario\, K0A1L0\, Canada
CATEGORIES:Facility Availability,HCA Events,Messhall Events
ORGANIZER;CN="Huntley Community Association":MAILTO:info@hca-carp.ca
END:VEVENT
BEGIN:VEVENT
DTSTART;TZID=America/Toronto:20260128T180000
DTEND;TZID=America/Toronto:20260128T200000
DTSTAMP:20260420T071818
CREATED:20260107T165527Z
LAST-MODIFIED:20260107T165530Z
UID:10001536-1769623200-1769630400@hca-carp.ca
SUMMARY:Girl Guides
DESCRIPTION:
URL:https://hca-carp.ca/calendar/girl-guides/2026-01-28/
LOCATION:Mess Hall\, 2240 Craig Side Road\, Carp\, Ontario\, K0A1L0\, Canada
CATEGORIES:Facility Availability,HCA Events,Messhall Events
ORGANIZER;CN="Huntley Community Association":MAILTO:info@hca-carp.ca
END:VEVENT
BEGIN:VEVENT
DTSTART;TZID=America/Toronto:20260129T120000
DTEND;TZID=America/Toronto:20260129T133000
DTSTAMP:20260420T071818
CREATED:20260107T165024Z
LAST-MODIFIED:20260107T165027Z
UID:10001502-1769688000-1769693400@hca-carp.ca
SUMMARY:Senior's Fitness
DESCRIPTION:
URL:https://hca-carp.ca/calendar/seniors-fitness-2/2026-01-29/
LOCATION:Mess Hall\, 2240 Craig Side Road\, Carp\, Ontario\, K0A1L0\, Canada
CATEGORIES:Facility Availability,Messhall Events
END:VEVENT
BEGIN:VEVENT
DTSTART;TZID=America/Toronto:20260129T180000
DTEND;TZID=America/Toronto:20260129T210000
DTSTAMP:20260420T071818
CREATED:20260108T231143Z
LAST-MODIFIED:20260108T231147Z
UID:10001590-1769709600-1769720400@hca-carp.ca
SUMMARY:Public Info Session
DESCRIPTION:Public Information Session: March Road and Old Carp Rd Intersection Functional Design Study
URL:https://hca-carp.ca/calendar/public-info-session/
LOCATION:Mess Hall\, 2240 Craig Side Road\, Carp\, Ontario\, K0A1L0\, Canada
CATEGORIES:Facility Availability,Messhall Events
END:VEVENT
BEGIN:VEVENT
DTSTART;TZID=America/Toronto:20260130T100000
DTEND;TZID=America/Toronto:20260130T110000
DTSTAMP:20260420T071818
CREATED:20260107T161540Z
LAST-MODIFIED:20260107T161544Z
UID:10001483-1769767200-1769770800@hca-carp.ca
SUMMARY:Yoga
DESCRIPTION:
URL:https://hca-carp.ca/calendar/yoga/2026-01-30/
LOCATION:Mess Hall\, 2240 Craig Side Road\, Carp\, Ontario\, K0A1L0\, Canada
CATEGORIES:Facility Availability,HCA Events,Messhall Events
ORGANIZER;CN="Huntley Community Association":MAILTO:info@hca-carp.ca
END:VEVENT
BEGIN:VEVENT
DTSTART;TZID=America/Toronto:20260130T190000
DTEND;TZID=America/Toronto:20260130T220000
DTSTAMP:20260420T071818
CREATED:20260107T165732Z
LAST-MODIFIED:20260107T165735Z
UID:10001561-1769799600-1769810400@hca-carp.ca
SUMMARY:Private Event
DESCRIPTION:
URL:https://hca-carp.ca/calendar/private-event-16/2026-01-30/
LOCATION:Mess Hall\, 2240 Craig Side Road\, Carp\, Ontario\, K0A1L0\, Canada
CATEGORIES:Facility Availability,HCA Events,Messhall Events
ORGANIZER;CN="Huntley Community Association":MAILTO:info@hca-carp.ca
END:VEVENT
BEGIN:VEVENT
DTSTART;TZID=America/Toronto:20260203T120000
DTEND;TZID=America/Toronto:20260203T133000
DTSTAMP:20260420T071818
CREATED:20260107T164806Z
LAST-MODIFIED:20260107T164810Z
UID:10001494-1770120000-1770125400@hca-carp.ca
SUMMARY:Senior's Fitness
DESCRIPTION:
URL:https://hca-carp.ca/calendar/seniors-fitness/2026-02-03/
LOCATION:Mess Hall\, 2240 Craig Side Road\, Carp\, Ontario\, K0A1L0\, Canada
CATEGORIES:Facility Availability,Messhall Events
END:VEVENT
BEGIN:VEVENT
DTSTART;TZID=America/Toronto:20260203T180000
DTEND;TZID=America/Toronto:20260203T210000
DTSTAMP:20260420T071818
CREATED:20260107T165325Z
LAST-MODIFIED:20260107T165329Z
UID:10001513-1770141600-1770152400@hca-carp.ca
SUMMARY:Beavers
DESCRIPTION:
URL:https://hca-carp.ca/calendar/beavers/2026-02-03/
LOCATION:Mess Hall\, 2240 Craig Side Road\, Carp\, Ontario\, K0A1L0\, Canada
CATEGORIES:Facility Availability,HCA Events,Messhall Events
ORGANIZER;CN="Huntley Community Association":MAILTO:info@hca-carp.ca
END:VEVENT
BEGIN:VEVENT
DTSTART;TZID=America/Toronto:20260204T180000
DTEND;TZID=America/Toronto:20260204T200000
DTSTAMP:20260420T071818
CREATED:20260107T165527Z
LAST-MODIFIED:20260107T165530Z
UID:10001537-1770228000-1770235200@hca-carp.ca
SUMMARY:Girl Guides
DESCRIPTION:
URL:https://hca-carp.ca/calendar/girl-guides/2026-02-04/
LOCATION:Mess Hall\, 2240 Craig Side Road\, Carp\, Ontario\, K0A1L0\, Canada
CATEGORIES:Facility Availability,HCA Events,Messhall Events
ORGANIZER;CN="Huntley Community Association":MAILTO:info@hca-carp.ca
END:VEVENT
BEGIN:VEVENT
DTSTART;TZID=America/Toronto:20260205T000000
DTEND;TZID=America/Toronto:20260207T235959
DTSTAMP:20260420T071818
CREATED:20260107T022348Z
LAST-MODIFIED:20260107T022821Z
UID:10001363-1770249600-1770508799@hca-carp.ca
SUMMARY:HCA Winter Carnival
DESCRIPTION:
URL:https://hca-carp.ca/calendar/hca-winter-carnival/
LOCATION:Huntley Community Centre\, 108 Juanita Ave\, Carp\, Ontario\, Canada
CATEGORIES:Facility Availability,HCA Events,HCC Events,Messhall Events,ODR Events
ORGANIZER;CN="Huntley Community Association":MAILTO:info@hca-carp.ca
END:VEVENT
BEGIN:VEVENT
DTSTART;TZID=America/Toronto:20260205T120000
DTEND;TZID=America/Toronto:20260205T133000
DTSTAMP:20260420T071818
CREATED:20260107T165024Z
LAST-MODIFIED:20260107T165027Z
UID:10001503-1770292800-1770298200@hca-carp.ca
SUMMARY:Senior's Fitness
DESCRIPTION:
URL:https://hca-carp.ca/calendar/seniors-fitness-2/2026-02-05/
LOCATION:Mess Hall\, 2240 Craig Side Road\, Carp\, Ontario\, K0A1L0\, Canada
CATEGORIES:Facility Availability,Messhall Events
END:VEVENT
END:VCALENDAR