BEGIN:VCALENDAR
VERSION:2.0
PRODID:-//Huntley Community Association - ECPv6.15.16//NONSGML v1.0//EN
CALSCALE:GREGORIAN
METHOD:PUBLISH
X-WR-CALNAME:Huntley Community Association
X-ORIGINAL-URL:https://hca-carp.ca
X-WR-CALDESC:Events for Huntley Community Association
REFRESH-INTERVAL;VALUE=DURATION:PT1H
X-Robots-Tag:noindex
X-PUBLISHED-TTL:PT1H
BEGIN:VTIMEZONE
TZID:America/Toronto
BEGIN:DAYLIGHT
TZOFFSETFROM:-0500
TZOFFSETTO:-0400
TZNAME:EDT
DTSTART:20250309T070000
END:DAYLIGHT
BEGIN:STANDARD
TZOFFSETFROM:-0400
TZOFFSETTO:-0500
TZNAME:EST
DTSTART:20251102T060000
END:STANDARD
BEGIN:DAYLIGHT
TZOFFSETFROM:-0500
TZOFFSETTO:-0400
TZNAME:EDT
DTSTART:20260308T070000
END:DAYLIGHT
BEGIN:STANDARD
TZOFFSETFROM:-0400
TZOFFSETTO:-0500
TZNAME:EST
DTSTART:20261101T060000
END:STANDARD
BEGIN:DAYLIGHT
TZOFFSETFROM:-0500
TZOFFSETTO:-0400
TZNAME:EDT
DTSTART:20270314T070000
END:DAYLIGHT
BEGIN:STANDARD
TZOFFSETFROM:-0400
TZOFFSETTO:-0500
TZNAME:EST
DTSTART:20271107T060000
END:STANDARD
END:VTIMEZONE
BEGIN:VEVENT
DTSTART;TZID=America/Toronto:20260313T100000
DTEND;TZID=America/Toronto:20260313T110000
DTSTAMP:20260421T232007
CREATED:20260107T161540Z
LAST-MODIFIED:20260107T161544Z
UID:10001488-1773396000-1773399600@hca-carp.ca
SUMMARY:Yoga
DESCRIPTION:
URL:https://hca-carp.ca/calendar/yoga/2026-03-13/
LOCATION:Mess Hall\, 2240 Craig Side Road\, Carp\, Ontario\, K0A1L0\, Canada
CATEGORIES:Facility Availability,HCA Events,Messhall Events
ORGANIZER;CN="Huntley Community Association":MAILTO:info@hca-carp.ca
END:VEVENT
BEGIN:VEVENT
DTSTART;TZID=America/Toronto:20260313T190000
DTEND;TZID=America/Toronto:20260313T220000
DTSTAMP:20260421T232007
CREATED:20260107T165732Z
LAST-MODIFIED:20260107T165735Z
UID:10001567-1773428400-1773439200@hca-carp.ca
SUMMARY:Private Event
DESCRIPTION:
URL:https://hca-carp.ca/calendar/private-event-16/2026-03-13/
LOCATION:Mess Hall\, 2240 Craig Side Road\, Carp\, Ontario\, K0A1L0\, Canada
CATEGORIES:Facility Availability,HCA Events,Messhall Events
ORGANIZER;CN="Huntley Community Association":MAILTO:info@hca-carp.ca
END:VEVENT
END:VCALENDAR