BEGIN:VCALENDAR
VERSION:2.0
PRODID:-//Huntley Community Association - ECPv6.15.16//NONSGML v1.0//EN
CALSCALE:GREGORIAN
METHOD:PUBLISH
X-ORIGINAL-URL:https://hca-carp.ca
X-WR-CALDESC:Events for Huntley Community Association
REFRESH-INTERVAL;VALUE=DURATION:PT1H
X-Robots-Tag:noindex
X-PUBLISHED-TTL:PT1H
BEGIN:VTIMEZONE
TZID:America/Toronto
BEGIN:DAYLIGHT
TZOFFSETFROM:-0500
TZOFFSETTO:-0400
TZNAME:EDT
DTSTART:20250309T070000
END:DAYLIGHT
BEGIN:STANDARD
TZOFFSETFROM:-0400
TZOFFSETTO:-0500
TZNAME:EST
DTSTART:20251102T060000
END:STANDARD
BEGIN:DAYLIGHT
TZOFFSETFROM:-0500
TZOFFSETTO:-0400
TZNAME:EDT
DTSTART:20260308T070000
END:DAYLIGHT
BEGIN:STANDARD
TZOFFSETFROM:-0400
TZOFFSETTO:-0500
TZNAME:EST
DTSTART:20261101T060000
END:STANDARD
BEGIN:DAYLIGHT
TZOFFSETFROM:-0500
TZOFFSETTO:-0400
TZNAME:EDT
DTSTART:20270314T070000
END:DAYLIGHT
BEGIN:STANDARD
TZOFFSETFROM:-0400
TZOFFSETTO:-0500
TZNAME:EST
DTSTART:20271107T060000
END:STANDARD
END:VTIMEZONE
BEGIN:VEVENT
DTSTART;TZID=America/Toronto:20260519T180000
DTEND;TZID=America/Toronto:20260519T210000
DTSTAMP:20260421T215112
CREATED:20260107T165325Z
LAST-MODIFIED:20260107T165329Z
UID:10001528-1779213600-1779224400@hca-carp.ca
SUMMARY:Beavers
DESCRIPTION:
URL:https://hca-carp.ca/calendar/beavers/2026-05-19/
LOCATION:Mess Hall\, 2240 Craig Side Road\, Carp\, Ontario\, K0A1L0\, Canada
CATEGORIES:Facility Availability,HCA Events,Messhall Events
ORGANIZER;CN="Huntley Community Association":MAILTO:info@hca-carp.ca
END:VEVENT
BEGIN:VEVENT
DTSTART;TZID=America/Toronto:20260520T180000
DTEND;TZID=America/Toronto:20260520T200000
DTSTAMP:20260421T215112
CREATED:20260107T165527Z
LAST-MODIFIED:20260107T165530Z
UID:10001552-1779300000-1779307200@hca-carp.ca
SUMMARY:Girl Guides
DESCRIPTION:
URL:https://hca-carp.ca/calendar/girl-guides/2026-05-20/
LOCATION:Mess Hall\, 2240 Craig Side Road\, Carp\, Ontario\, K0A1L0\, Canada
CATEGORIES:Facility Availability,HCA Events,Messhall Events
ORGANIZER;CN="Huntley Community Association":MAILTO:info@hca-carp.ca
END:VEVENT
BEGIN:VEVENT
DTSTART;TZID=America/Toronto:20260522T190000
DTEND;TZID=America/Toronto:20260522T220000
DTSTAMP:20260421T215112
CREATED:20260107T165732Z
LAST-MODIFIED:20260107T165735Z
UID:10001577-1779476400-1779487200@hca-carp.ca
SUMMARY:Private Event
DESCRIPTION:
URL:https://hca-carp.ca/calendar/private-event-16/2026-05-22/
LOCATION:Mess Hall\, 2240 Craig Side Road\, Carp\, Ontario\, K0A1L0\, Canada
CATEGORIES:Facility Availability,HCA Events,Messhall Events
ORGANIZER;CN="Huntley Community Association":MAILTO:info@hca-carp.ca
END:VEVENT
END:VCALENDAR