BEGIN:VCALENDAR
VERSION:2.0
PRODID:-//Huntley Community Association - ECPv6.15.16//NONSGML v1.0//EN
CALSCALE:GREGORIAN
METHOD:PUBLISH
X-ORIGINAL-URL:https://hca-carp.ca
X-WR-CALDESC:Events for Huntley Community Association
REFRESH-INTERVAL;VALUE=DURATION:PT1H
X-Robots-Tag:noindex
X-PUBLISHED-TTL:PT1H
BEGIN:VTIMEZONE
TZID:America/Toronto
BEGIN:DAYLIGHT
TZOFFSETFROM:-0500
TZOFFSETTO:-0400
TZNAME:EDT
DTSTART:20250309T070000
END:DAYLIGHT
BEGIN:STANDARD
TZOFFSETFROM:-0400
TZOFFSETTO:-0500
TZNAME:EST
DTSTART:20251102T060000
END:STANDARD
BEGIN:DAYLIGHT
TZOFFSETFROM:-0500
TZOFFSETTO:-0400
TZNAME:EDT
DTSTART:20260308T070000
END:DAYLIGHT
BEGIN:STANDARD
TZOFFSETFROM:-0400
TZOFFSETTO:-0500
TZNAME:EST
DTSTART:20261101T060000
END:STANDARD
BEGIN:DAYLIGHT
TZOFFSETFROM:-0500
TZOFFSETTO:-0400
TZNAME:EDT
DTSTART:20270314T070000
END:DAYLIGHT
BEGIN:STANDARD
TZOFFSETFROM:-0400
TZOFFSETTO:-0500
TZNAME:EST
DTSTART:20271107T060000
END:STANDARD
END:VTIMEZONE
BEGIN:VEVENT
DTSTART;TZID=America/Toronto:20260321T170000
DTEND;TZID=America/Toronto:20260321T180000
DTSTAMP:20260419T185257
CREATED:20260107T031214Z
LAST-MODIFIED:20260107T031217Z
UID:10001446-1774112400-1774116000@hca-carp.ca
SUMMARY:Rental Available
DESCRIPTION:
URL:https://hca-carp.ca/calendar/rental-available-2/2026-03-21/
LOCATION:Huntley Community Centre\, 108 Juanita Ave\, Carp\, Ontario\, Canada
CATEGORIES:Facility Availability,HCA Events,HCC Events,ODR Events
ORGANIZER;CN="Huntley Community Association":MAILTO:info@hca-carp.ca
END:VEVENT
BEGIN:VEVENT
DTSTART;TZID=America/Toronto:20260322T100000
DTEND;TZID=America/Toronto:20260322T110000
DTSTAMP:20260419T185257
CREATED:20260107T031457Z
LAST-MODIFIED:20260107T031910Z
UID:10001479-1774173600-1774177200@hca-carp.ca
SUMMARY:Rental Available
DESCRIPTION:
URL:https://hca-carp.ca/calendar/rental-available-3/2026-03-22/
LOCATION:Huntley Community Centre\, 108 Juanita Ave\, Carp\, Ontario\, Canada
CATEGORIES:Facility Availability,HCA Events,HCC Events,ODR Events
ORGANIZER;CN="Huntley Community Association":MAILTO:info@hca-carp.ca
END:VEVENT
BEGIN:VEVENT
DTSTART;TZID=America/Toronto:20260322T170000
DTEND;TZID=America/Toronto:20260322T180000
DTSTAMP:20260419T185257
CREATED:20260107T031700Z
LAST-MODIFIED:20260107T031704Z
UID:10001468-1774198800-1774202400@hca-carp.ca
SUMMARY:Rental Available
DESCRIPTION:
URL:https://hca-carp.ca/calendar/rental-available-4/2026-03-22/
LOCATION:Huntley Community Centre\, 108 Juanita Ave\, Carp\, Ontario\, Canada
CATEGORIES:Facility Availability,HCA Events,HCC Events,ODR Events
ORGANIZER;CN="Huntley Community Association":MAILTO:info@hca-carp.ca
END:VEVENT
BEGIN:VEVENT
DTSTART;TZID=America/Toronto:20260324T180000
DTEND;TZID=America/Toronto:20260324T210000
DTSTAMP:20260419T185257
CREATED:20260107T165325Z
LAST-MODIFIED:20260107T165329Z
UID:10001520-1774375200-1774386000@hca-carp.ca
SUMMARY:Beavers
DESCRIPTION:
URL:https://hca-carp.ca/calendar/beavers/2026-03-24/
LOCATION:Mess Hall\, 2240 Craig Side Road\, Carp\, Ontario\, K0A1L0\, Canada
CATEGORIES:Facility Availability,HCA Events,Messhall Events
ORGANIZER;CN="Huntley Community Association":MAILTO:info@hca-carp.ca
END:VEVENT
BEGIN:VEVENT
DTSTART;TZID=America/Toronto:20260325T180000
DTEND;TZID=America/Toronto:20260325T200000
DTSTAMP:20260419T185257
CREATED:20260107T165527Z
LAST-MODIFIED:20260107T165530Z
UID:10001544-1774461600-1774468800@hca-carp.ca
SUMMARY:Girl Guides
DESCRIPTION:
URL:https://hca-carp.ca/calendar/girl-guides/2026-03-25/
LOCATION:Mess Hall\, 2240 Craig Side Road\, Carp\, Ontario\, K0A1L0\, Canada
CATEGORIES:Facility Availability,HCA Events,Messhall Events
ORGANIZER;CN="Huntley Community Association":MAILTO:info@hca-carp.ca
END:VEVENT
BEGIN:VEVENT
DTSTART;TZID=America/Toronto:20260327T100000
DTEND;TZID=America/Toronto:20260327T110000
DTSTAMP:20260419T185257
CREATED:20260107T161540Z
LAST-MODIFIED:20260107T161544Z
UID:10001490-1774605600-1774609200@hca-carp.ca
SUMMARY:Yoga
DESCRIPTION:
URL:https://hca-carp.ca/calendar/yoga/2026-03-27/
LOCATION:Mess Hall\, 2240 Craig Side Road\, Carp\, Ontario\, K0A1L0\, Canada
CATEGORIES:Facility Availability,HCA Events,Messhall Events
ORGANIZER;CN="Huntley Community Association":MAILTO:info@hca-carp.ca
END:VEVENT
BEGIN:VEVENT
DTSTART;TZID=America/Toronto:20260327T190000
DTEND;TZID=America/Toronto:20260327T220000
DTSTAMP:20260419T185257
CREATED:20260107T165732Z
LAST-MODIFIED:20260107T165735Z
UID:10001569-1774638000-1774648800@hca-carp.ca
SUMMARY:Private Event
DESCRIPTION:
URL:https://hca-carp.ca/calendar/private-event-16/2026-03-27/
LOCATION:Mess Hall\, 2240 Craig Side Road\, Carp\, Ontario\, K0A1L0\, Canada
CATEGORIES:Facility Availability,HCA Events,Messhall Events
ORGANIZER;CN="Huntley Community Association":MAILTO:info@hca-carp.ca
END:VEVENT
BEGIN:VEVENT
DTSTART;TZID=America/Toronto:20260331T180000
DTEND;TZID=America/Toronto:20260331T210000
DTSTAMP:20260419T185257
CREATED:20260107T165325Z
LAST-MODIFIED:20260107T165329Z
UID:10001521-1774980000-1774990800@hca-carp.ca
SUMMARY:Beavers
DESCRIPTION:
URL:https://hca-carp.ca/calendar/beavers/2026-03-31/
LOCATION:Mess Hall\, 2240 Craig Side Road\, Carp\, Ontario\, K0A1L0\, Canada
CATEGORIES:Facility Availability,HCA Events,Messhall Events
ORGANIZER;CN="Huntley Community Association":MAILTO:info@hca-carp.ca
END:VEVENT
BEGIN:VEVENT
DTSTART;TZID=America/Toronto:20260401T180000
DTEND;TZID=America/Toronto:20260401T200000
DTSTAMP:20260419T185257
CREATED:20260107T165527Z
LAST-MODIFIED:20260107T165530Z
UID:10001545-1775066400-1775073600@hca-carp.ca
SUMMARY:Girl Guides
DESCRIPTION:
URL:https://hca-carp.ca/calendar/girl-guides/2026-04-01/
LOCATION:Mess Hall\, 2240 Craig Side Road\, Carp\, Ontario\, K0A1L0\, Canada
CATEGORIES:Facility Availability,HCA Events,Messhall Events
ORGANIZER;CN="Huntley Community Association":MAILTO:info@hca-carp.ca
END:VEVENT
BEGIN:VEVENT
DTSTART;TZID=America/Toronto:20260403T190000
DTEND;TZID=America/Toronto:20260403T220000
DTSTAMP:20260419T185257
CREATED:20260107T165732Z
LAST-MODIFIED:20260107T165735Z
UID:10001570-1775242800-1775253600@hca-carp.ca
SUMMARY:Private Event
DESCRIPTION:
URL:https://hca-carp.ca/calendar/private-event-16/2026-04-03/
LOCATION:Mess Hall\, 2240 Craig Side Road\, Carp\, Ontario\, K0A1L0\, Canada
CATEGORIES:Facility Availability,HCA Events,Messhall Events
ORGANIZER;CN="Huntley Community Association":MAILTO:info@hca-carp.ca
END:VEVENT
BEGIN:VEVENT
DTSTART;TZID=America/Toronto:20260407T180000
DTEND;TZID=America/Toronto:20260407T210000
DTSTAMP:20260419T185257
CREATED:20260107T165325Z
LAST-MODIFIED:20260107T165329Z
UID:10001522-1775584800-1775595600@hca-carp.ca
SUMMARY:Beavers
DESCRIPTION:
URL:https://hca-carp.ca/calendar/beavers/2026-04-07/
LOCATION:Mess Hall\, 2240 Craig Side Road\, Carp\, Ontario\, K0A1L0\, Canada
CATEGORIES:Facility Availability,HCA Events,Messhall Events
ORGANIZER;CN="Huntley Community Association":MAILTO:info@hca-carp.ca
END:VEVENT
BEGIN:VEVENT
DTSTART;TZID=America/Toronto:20260408T180000
DTEND;TZID=America/Toronto:20260408T200000
DTSTAMP:20260419T185257
CREATED:20260107T165527Z
LAST-MODIFIED:20260107T165530Z
UID:10001546-1775671200-1775678400@hca-carp.ca
SUMMARY:Girl Guides
DESCRIPTION:
URL:https://hca-carp.ca/calendar/girl-guides/2026-04-08/
LOCATION:Mess Hall\, 2240 Craig Side Road\, Carp\, Ontario\, K0A1L0\, Canada
CATEGORIES:Facility Availability,HCA Events,Messhall Events
ORGANIZER;CN="Huntley Community Association":MAILTO:info@hca-carp.ca
END:VEVENT
BEGIN:VEVENT
DTSTART;TZID=America/Toronto:20260409T190000
DTEND;TZID=America/Toronto:20260409T210000
DTSTAMP:20260419T185257
CREATED:20260107T170530Z
LAST-MODIFIED:20260107T170533Z
UID:10001586-1775761200-1775768400@hca-carp.ca
SUMMARY:HCA Board Meeting
DESCRIPTION:
URL:https://hca-carp.ca/calendar/hca-board-meeting/2026-04-09/
LOCATION:Mess Hall\, 2240 Craig Side Road\, Carp\, Ontario\, K0A1L0\, Canada
CATEGORIES:Facility Availability,HCA Events,Messhall Events
ORGANIZER;CN="Huntley Community Association":MAILTO:info@hca-carp.ca
END:VEVENT
BEGIN:VEVENT
DTSTART;TZID=America/Toronto:20260410T190000
DTEND;TZID=America/Toronto:20260410T220000
DTSTAMP:20260419T185257
CREATED:20260107T165732Z
LAST-MODIFIED:20260107T165735Z
UID:10001571-1775847600-1775858400@hca-carp.ca
SUMMARY:Private Event
DESCRIPTION:
URL:https://hca-carp.ca/calendar/private-event-16/2026-04-10/
LOCATION:Mess Hall\, 2240 Craig Side Road\, Carp\, Ontario\, K0A1L0\, Canada
CATEGORIES:Facility Availability,HCA Events,Messhall Events
ORGANIZER;CN="Huntley Community Association":MAILTO:info@hca-carp.ca
END:VEVENT
BEGIN:VEVENT
DTSTART;TZID=America/Toronto:20260414T180000
DTEND;TZID=America/Toronto:20260414T210000
DTSTAMP:20260419T185257
CREATED:20260107T165325Z
LAST-MODIFIED:20260107T165329Z
UID:10001523-1776189600-1776200400@hca-carp.ca
SUMMARY:Beavers
DESCRIPTION:
URL:https://hca-carp.ca/calendar/beavers/2026-04-14/
LOCATION:Mess Hall\, 2240 Craig Side Road\, Carp\, Ontario\, K0A1L0\, Canada
CATEGORIES:Facility Availability,HCA Events,Messhall Events
ORGANIZER;CN="Huntley Community Association":MAILTO:info@hca-carp.ca
END:VEVENT
BEGIN:VEVENT
DTSTART;TZID=America/Toronto:20260415T180000
DTEND;TZID=America/Toronto:20260415T200000
DTSTAMP:20260419T185257
CREATED:20260107T165527Z
LAST-MODIFIED:20260107T165530Z
UID:10001547-1776276000-1776283200@hca-carp.ca
SUMMARY:Girl Guides
DESCRIPTION:
URL:https://hca-carp.ca/calendar/girl-guides/2026-04-15/
LOCATION:Mess Hall\, 2240 Craig Side Road\, Carp\, Ontario\, K0A1L0\, Canada
CATEGORIES:Facility Availability,HCA Events,Messhall Events
ORGANIZER;CN="Huntley Community Association":MAILTO:info@hca-carp.ca
END:VEVENT
BEGIN:VEVENT
DTSTART;TZID=America/Toronto:20260417T190000
DTEND;TZID=America/Toronto:20260417T220000
DTSTAMP:20260419T185257
CREATED:20260107T165732Z
LAST-MODIFIED:20260107T165735Z
UID:10001572-1776452400-1776463200@hca-carp.ca
SUMMARY:Private Event
DESCRIPTION:
URL:https://hca-carp.ca/calendar/private-event-16/2026-04-17/
LOCATION:Mess Hall\, 2240 Craig Side Road\, Carp\, Ontario\, K0A1L0\, Canada
CATEGORIES:Facility Availability,HCA Events,Messhall Events
ORGANIZER;CN="Huntley Community Association":MAILTO:info@hca-carp.ca
END:VEVENT
BEGIN:VEVENT
DTSTART;TZID=America/Toronto:20260421T180000
DTEND;TZID=America/Toronto:20260421T210000
DTSTAMP:20260419T185257
CREATED:20260107T165325Z
LAST-MODIFIED:20260107T165329Z
UID:10001524-1776794400-1776805200@hca-carp.ca
SUMMARY:Beavers
DESCRIPTION:
URL:https://hca-carp.ca/calendar/beavers/2026-04-21/
LOCATION:Mess Hall\, 2240 Craig Side Road\, Carp\, Ontario\, K0A1L0\, Canada
CATEGORIES:Facility Availability,HCA Events,Messhall Events
ORGANIZER;CN="Huntley Community Association":MAILTO:info@hca-carp.ca
END:VEVENT
BEGIN:VEVENT
DTSTART;TZID=America/Toronto:20260422T180000
DTEND;TZID=America/Toronto:20260422T200000
DTSTAMP:20260419T185257
CREATED:20260107T165527Z
LAST-MODIFIED:20260107T165530Z
UID:10001548-1776880800-1776888000@hca-carp.ca
SUMMARY:Girl Guides
DESCRIPTION:
URL:https://hca-carp.ca/calendar/girl-guides/2026-04-22/
LOCATION:Mess Hall\, 2240 Craig Side Road\, Carp\, Ontario\, K0A1L0\, Canada
CATEGORIES:Facility Availability,HCA Events,Messhall Events
ORGANIZER;CN="Huntley Community Association":MAILTO:info@hca-carp.ca
END:VEVENT
BEGIN:VEVENT
DTSTART;TZID=America/Toronto:20260424T190000
DTEND;TZID=America/Toronto:20260424T220000
DTSTAMP:20260419T185257
CREATED:20260107T165732Z
LAST-MODIFIED:20260107T165735Z
UID:10001573-1777057200-1777068000@hca-carp.ca
SUMMARY:Private Event
DESCRIPTION:
URL:https://hca-carp.ca/calendar/private-event-16/2026-04-24/
LOCATION:Mess Hall\, 2240 Craig Side Road\, Carp\, Ontario\, K0A1L0\, Canada
CATEGORIES:Facility Availability,HCA Events,Messhall Events
ORGANIZER;CN="Huntley Community Association":MAILTO:info@hca-carp.ca
END:VEVENT
BEGIN:VEVENT
DTSTART;TZID=America/Toronto:20260428T180000
DTEND;TZID=America/Toronto:20260428T210000
DTSTAMP:20260419T185257
CREATED:20260107T165325Z
LAST-MODIFIED:20260107T165329Z
UID:10001525-1777399200-1777410000@hca-carp.ca
SUMMARY:Beavers
DESCRIPTION:
URL:https://hca-carp.ca/calendar/beavers/2026-04-28/
LOCATION:Mess Hall\, 2240 Craig Side Road\, Carp\, Ontario\, K0A1L0\, Canada
CATEGORIES:Facility Availability,HCA Events,Messhall Events
ORGANIZER;CN="Huntley Community Association":MAILTO:info@hca-carp.ca
END:VEVENT
BEGIN:VEVENT
DTSTART;TZID=America/Toronto:20260429T180000
DTEND;TZID=America/Toronto:20260429T200000
DTSTAMP:20260419T185257
CREATED:20260107T165527Z
LAST-MODIFIED:20260107T165530Z
UID:10001549-1777485600-1777492800@hca-carp.ca
SUMMARY:Girl Guides
DESCRIPTION:
URL:https://hca-carp.ca/calendar/girl-guides/2026-04-29/
LOCATION:Mess Hall\, 2240 Craig Side Road\, Carp\, Ontario\, K0A1L0\, Canada
CATEGORIES:Facility Availability,HCA Events,Messhall Events
ORGANIZER;CN="Huntley Community Association":MAILTO:info@hca-carp.ca
END:VEVENT
BEGIN:VEVENT
DTSTART;TZID=America/Toronto:20260501T190000
DTEND;TZID=America/Toronto:20260501T220000
DTSTAMP:20260419T185257
CREATED:20260107T165732Z
LAST-MODIFIED:20260107T165735Z
UID:10001574-1777662000-1777672800@hca-carp.ca
SUMMARY:Private Event
DESCRIPTION:
URL:https://hca-carp.ca/calendar/private-event-16/2026-05-01/
LOCATION:Mess Hall\, 2240 Craig Side Road\, Carp\, Ontario\, K0A1L0\, Canada
CATEGORIES:Facility Availability,HCA Events,Messhall Events
ORGANIZER;CN="Huntley Community Association":MAILTO:info@hca-carp.ca
END:VEVENT
BEGIN:VEVENT
DTSTART;TZID=America/Toronto:20260505T180000
DTEND;TZID=America/Toronto:20260505T210000
DTSTAMP:20260419T185257
CREATED:20260107T165325Z
LAST-MODIFIED:20260107T165329Z
UID:10001526-1778004000-1778014800@hca-carp.ca
SUMMARY:Beavers
DESCRIPTION:
URL:https://hca-carp.ca/calendar/beavers/2026-05-05/
LOCATION:Mess Hall\, 2240 Craig Side Road\, Carp\, Ontario\, K0A1L0\, Canada
CATEGORIES:Facility Availability,HCA Events,Messhall Events
ORGANIZER;CN="Huntley Community Association":MAILTO:info@hca-carp.ca
END:VEVENT
BEGIN:VEVENT
DTSTART;TZID=America/Toronto:20260506T180000
DTEND;TZID=America/Toronto:20260506T200000
DTSTAMP:20260419T185257
CREATED:20260107T165527Z
LAST-MODIFIED:20260107T165530Z
UID:10001550-1778090400-1778097600@hca-carp.ca
SUMMARY:Girl Guides
DESCRIPTION:
URL:https://hca-carp.ca/calendar/girl-guides/2026-05-06/
LOCATION:Mess Hall\, 2240 Craig Side Road\, Carp\, Ontario\, K0A1L0\, Canada
CATEGORIES:Facility Availability,HCA Events,Messhall Events
ORGANIZER;CN="Huntley Community Association":MAILTO:info@hca-carp.ca
END:VEVENT
BEGIN:VEVENT
DTSTART;TZID=America/Toronto:20260508T190000
DTEND;TZID=America/Toronto:20260508T220000
DTSTAMP:20260419T185257
CREATED:20260107T165732Z
LAST-MODIFIED:20260107T165735Z
UID:10001575-1778266800-1778277600@hca-carp.ca
SUMMARY:Private Event
DESCRIPTION:
URL:https://hca-carp.ca/calendar/private-event-16/2026-05-08/
LOCATION:Mess Hall\, 2240 Craig Side Road\, Carp\, Ontario\, K0A1L0\, Canada
CATEGORIES:Facility Availability,HCA Events,Messhall Events
ORGANIZER;CN="Huntley Community Association":MAILTO:info@hca-carp.ca
END:VEVENT
BEGIN:VEVENT
DTSTART;TZID=America/Toronto:20260512T180000
DTEND;TZID=America/Toronto:20260512T210000
DTSTAMP:20260419T185257
CREATED:20260107T165325Z
LAST-MODIFIED:20260107T165329Z
UID:10001527-1778608800-1778619600@hca-carp.ca
SUMMARY:Beavers
DESCRIPTION:
URL:https://hca-carp.ca/calendar/beavers/2026-05-12/
LOCATION:Mess Hall\, 2240 Craig Side Road\, Carp\, Ontario\, K0A1L0\, Canada
CATEGORIES:Facility Availability,HCA Events,Messhall Events
ORGANIZER;CN="Huntley Community Association":MAILTO:info@hca-carp.ca
END:VEVENT
BEGIN:VEVENT
DTSTART;TZID=America/Toronto:20260513T180000
DTEND;TZID=America/Toronto:20260513T200000
DTSTAMP:20260419T185257
CREATED:20260107T165527Z
LAST-MODIFIED:20260107T165530Z
UID:10001551-1778695200-1778702400@hca-carp.ca
SUMMARY:Girl Guides
DESCRIPTION:
URL:https://hca-carp.ca/calendar/girl-guides/2026-05-13/
LOCATION:Mess Hall\, 2240 Craig Side Road\, Carp\, Ontario\, K0A1L0\, Canada
CATEGORIES:Facility Availability,HCA Events,Messhall Events
ORGANIZER;CN="Huntley Community Association":MAILTO:info@hca-carp.ca
END:VEVENT
BEGIN:VEVENT
DTSTART;TZID=America/Toronto:20260514T190000
DTEND;TZID=America/Toronto:20260514T210000
DTSTAMP:20260419T185257
CREATED:20260107T170530Z
LAST-MODIFIED:20260107T170533Z
UID:10001587-1778785200-1778792400@hca-carp.ca
SUMMARY:HCA Board Meeting
DESCRIPTION:
URL:https://hca-carp.ca/calendar/hca-board-meeting/2026-05-14/
LOCATION:Mess Hall\, 2240 Craig Side Road\, Carp\, Ontario\, K0A1L0\, Canada
CATEGORIES:Facility Availability,HCA Events,Messhall Events
ORGANIZER;CN="Huntley Community Association":MAILTO:info@hca-carp.ca
END:VEVENT
BEGIN:VEVENT
DTSTART;TZID=America/Toronto:20260515T190000
DTEND;TZID=America/Toronto:20260515T220000
DTSTAMP:20260419T185257
CREATED:20260107T165732Z
LAST-MODIFIED:20260107T165735Z
UID:10001576-1778871600-1778882400@hca-carp.ca
SUMMARY:Private Event
DESCRIPTION:
URL:https://hca-carp.ca/calendar/private-event-16/2026-05-15/
LOCATION:Mess Hall\, 2240 Craig Side Road\, Carp\, Ontario\, K0A1L0\, Canada
CATEGORIES:Facility Availability,HCA Events,Messhall Events
ORGANIZER;CN="Huntley Community Association":MAILTO:info@hca-carp.ca
END:VEVENT
END:VCALENDAR