BEGIN:VCALENDAR
VERSION:2.0
PRODID:-//Huntley Community Association - ECPv6.15.16//NONSGML v1.0//EN
CALSCALE:GREGORIAN
METHOD:PUBLISH
X-ORIGINAL-URL:https://hca-carp.ca
X-WR-CALDESC:Events for Huntley Community Association
REFRESH-INTERVAL;VALUE=DURATION:PT1H
X-Robots-Tag:noindex
X-PUBLISHED-TTL:PT1H
BEGIN:VTIMEZONE
TZID:America/Toronto
BEGIN:DAYLIGHT
TZOFFSETFROM:-0500
TZOFFSETTO:-0400
TZNAME:EDT
DTSTART:20240310T070000
END:DAYLIGHT
BEGIN:STANDARD
TZOFFSETFROM:-0400
TZOFFSETTO:-0500
TZNAME:EST
DTSTART:20241103T060000
END:STANDARD
BEGIN:DAYLIGHT
TZOFFSETFROM:-0500
TZOFFSETTO:-0400
TZNAME:EDT
DTSTART:20250309T070000
END:DAYLIGHT
BEGIN:STANDARD
TZOFFSETFROM:-0400
TZOFFSETTO:-0500
TZNAME:EST
DTSTART:20251102T060000
END:STANDARD
BEGIN:DAYLIGHT
TZOFFSETFROM:-0500
TZOFFSETTO:-0400
TZNAME:EDT
DTSTART:20260308T070000
END:DAYLIGHT
BEGIN:STANDARD
TZOFFSETFROM:-0400
TZOFFSETTO:-0500
TZNAME:EST
DTSTART:20261101T060000
END:STANDARD
END:VTIMEZONE
BEGIN:VEVENT
DTSTART;TZID=America/Toronto:20250425T100000
DTEND;TZID=America/Toronto:20250425T120000
DTSTAMP:20260423T000915
CREATED:20250411T151034Z
LAST-MODIFIED:20250411T151316Z
UID:10001271-1745575200-1745582400@hca-carp.ca
SUMMARY:Yoga Class
DESCRIPTION:
URL:https://hca-carp.ca/calendar/yoga-class-2/2025-04-25/
LOCATION:Mess Hall\, 2240 Craig Side Road\, Carp\, Ontario\, K0A1L0\, Canada
CATEGORIES:Facility Availability,HCA Events,Messhall Events
ORGANIZER;CN="Huntley Community Association":MAILTO:info@hca-carp.ca
END:VEVENT
BEGIN:VEVENT
DTSTART;TZID=America/Toronto:20250425T190000
DTEND;TZID=America/Toronto:20250425T220000
DTSTAMP:20260423T000915
CREATED:20250411T145338Z
LAST-MODIFIED:20250411T145543Z
UID:10001178-1745607600-1745618400@hca-carp.ca
SUMMARY:Private Event
DESCRIPTION:
URL:https://hca-carp.ca/calendar/private-event-94/2025-04-25/
LOCATION:Mess Hall\, 2240 Craig Side Road\, Carp\, Ontario\, K0A1L0\, Canada
CATEGORIES:Facility Availability,HCA Events,Messhall Events
ORGANIZER;CN="Huntley Community Association":MAILTO:info@hca-carp.ca
END:VEVENT
BEGIN:VEVENT
DTSTART;TZID=America/Toronto:20250426T000000
DTEND;TZID=America/Toronto:20250426T235959
DTSTAMP:20260423T000915
CREATED:20250216T175428Z
LAST-MODIFIED:20250216T175431Z
UID:10001168-1745625600-1745711999@hca-carp.ca
SUMMARY:Private Event
DESCRIPTION:
URL:https://hca-carp.ca/calendar/private-event-92/
LOCATION:Mess Hall\, 2240 Craig Side Road\, Carp\, Ontario\, K0A1L0\, Canada
CATEGORIES:Carp Agric. Society Events,Facility Availability,Messhall Events
ORGANIZER;CN="Carp Agricultural Society (Carp Fair)":MAILTO:info@carpfair.ca
END:VEVENT
BEGIN:VEVENT
DTSTART;TZID=America/Toronto:20250427T170000
DTEND;TZID=America/Toronto:20250427T220000
DTSTAMP:20260423T000915
CREATED:20250411T145943Z
LAST-MODIFIED:20250411T145946Z
UID:10001246-1745773200-1745791200@hca-carp.ca
SUMMARY:Private Meeting
DESCRIPTION:
URL:https://hca-carp.ca/calendar/private-meeting/2025-04-27/
LOCATION:Mess Hall\, 2240 Craig Side Road\, Carp\, Ontario\, K0A1L0\, Canada
CATEGORIES:Facility Availability,Messhall Events
END:VEVENT
BEGIN:VEVENT
DTSTART;TZID=America/Toronto:20250428T000000
DTEND;TZID=America/Toronto:20250428T235959
DTSTAMP:20260423T000915
CREATED:20250411T151556Z
LAST-MODIFIED:20250411T151558Z
UID:10001280-1745798400-1745884799@hca-carp.ca
SUMMARY:Elections Canada
DESCRIPTION:
URL:https://hca-carp.ca/calendar/elections-canada/
LOCATION:Mess Hall\, 2240 Craig Side Road\, Carp\, Ontario\, K0A1L0\, Canada
CATEGORIES:Facility Availability,Messhall Events
END:VEVENT
BEGIN:VEVENT
DTSTART;TZID=America/Toronto:20250429T113000
DTEND;TZID=America/Toronto:20250429T130000
DTSTAMP:20260423T000915
CREATED:20250411T150347Z
LAST-MODIFIED:20250411T150350Z
UID:10001250-1745926200-1745931600@hca-carp.ca
SUMMARY:Seniors Fitness
DESCRIPTION:
URL:https://hca-carp.ca/calendar/seniors-fitness-25/2025-04-29/
LOCATION:Mess Hall\, 2240 Craig Side Road\, Carp\, Ontario\, K0A1L0\, Canada
CATEGORIES:Facility Availability,Messhall Events
END:VEVENT
BEGIN:VEVENT
DTSTART;TZID=America/Toronto:20250429T180000
DTEND;TZID=America/Toronto:20250429T200000
DTSTAMP:20260423T000915
CREATED:20241113T190237Z
LAST-MODIFIED:20241113T190240Z
UID:10000990-1745949600-1745956800@hca-carp.ca
SUMMARY:Beavers
DESCRIPTION:
URL:https://hca-carp.ca/calendar/beavers-11/2025-04-29/
LOCATION:Mess Hall\, 2240 Craig Side Road\, Carp\, Ontario\, K0A1L0\, Canada
CATEGORIES:Facility Availability,Messhall Events
END:VEVENT
BEGIN:VEVENT
DTSTART;TZID=America/Toronto:20250430T180000
DTEND;TZID=America/Toronto:20250430T200000
DTSTAMP:20260423T000915
CREATED:20241113T190411Z
LAST-MODIFIED:20241113T190414Z
UID:10001015-1746036000-1746043200@hca-carp.ca
SUMMARY:Girl Guides
DESCRIPTION:
URL:https://hca-carp.ca/calendar/girl-guides-7/2025-04-30/
LOCATION:Mess Hall\, 2240 Craig Side Road\, Carp\, Ontario\, K0A1L0\, Canada
CATEGORIES:Facility Availability,Messhall Events
END:VEVENT
BEGIN:VEVENT
DTSTART;TZID=America/Toronto:20250501T113000
DTEND;TZID=America/Toronto:20250501T130000
DTSTAMP:20260423T000915
CREATED:20250411T150722Z
LAST-MODIFIED:20250411T150727Z
UID:10001262-1746099000-1746104400@hca-carp.ca
SUMMARY:Seniors Fitness
DESCRIPTION:
URL:https://hca-carp.ca/calendar/seniors-fitness-26/2025-05-01/
LOCATION:Mess Hall\, 2240 Craig Side Road\, Carp\, Ontario\, K0A1L0\, Canada
CATEGORIES:Facility Availability,Messhall Events
END:VEVENT
BEGIN:VEVENT
DTSTART;TZID=America/Toronto:20250502T100000
DTEND;TZID=America/Toronto:20250502T120000
DTSTAMP:20260423T000915
CREATED:20250411T151034Z
LAST-MODIFIED:20250411T151316Z
UID:10001272-1746180000-1746187200@hca-carp.ca
SUMMARY:Yoga Class
DESCRIPTION:
URL:https://hca-carp.ca/calendar/yoga-class-2/2025-05-02/
LOCATION:Mess Hall\, 2240 Craig Side Road\, Carp\, Ontario\, K0A1L0\, Canada
CATEGORIES:Facility Availability,HCA Events,Messhall Events
ORGANIZER;CN="Huntley Community Association":MAILTO:info@hca-carp.ca
END:VEVENT
BEGIN:VEVENT
DTSTART;TZID=America/Toronto:20250502T190000
DTEND;TZID=America/Toronto:20250502T220000
DTSTAMP:20260423T000915
CREATED:20250411T145338Z
LAST-MODIFIED:20250411T145543Z
UID:10001179-1746212400-1746223200@hca-carp.ca
SUMMARY:Private Event
DESCRIPTION:
URL:https://hca-carp.ca/calendar/private-event-94/2025-05-02/
LOCATION:Mess Hall\, 2240 Craig Side Road\, Carp\, Ontario\, K0A1L0\, Canada
CATEGORIES:Facility Availability,HCA Events,Messhall Events
ORGANIZER;CN="Huntley Community Association":MAILTO:info@hca-carp.ca
END:VEVENT
BEGIN:VEVENT
DTSTART;TZID=America/Toronto:20250503T140000
DTEND;TZID=America/Toronto:20250503T220000
DTSTAMP:20260423T000915
CREATED:20250411T151845Z
LAST-MODIFIED:20250411T151848Z
UID:10001281-1746280800-1746309600@hca-carp.ca
SUMMARY:Private Event
DESCRIPTION:
URL:https://hca-carp.ca/calendar/private-event-95/
LOCATION:Mess Hall\, 2240 Craig Side Road\, Carp\, Ontario\, K0A1L0\, Canada
CATEGORIES:Facility Availability,Messhall Events
END:VEVENT
BEGIN:VEVENT
DTSTART;TZID=America/Toronto:20250506T113000
DTEND;TZID=America/Toronto:20250506T130000
DTSTAMP:20260423T000915
CREATED:20250411T150347Z
LAST-MODIFIED:20250411T150350Z
UID:10001251-1746531000-1746536400@hca-carp.ca
SUMMARY:Seniors Fitness
DESCRIPTION:
URL:https://hca-carp.ca/calendar/seniors-fitness-25/2025-05-06/
LOCATION:Mess Hall\, 2240 Craig Side Road\, Carp\, Ontario\, K0A1L0\, Canada
CATEGORIES:Facility Availability,Messhall Events
END:VEVENT
BEGIN:VEVENT
DTSTART;TZID=America/Toronto:20250506T180000
DTEND;TZID=America/Toronto:20250506T200000
DTSTAMP:20260423T000915
CREATED:20241113T190237Z
LAST-MODIFIED:20241113T190240Z
UID:10000991-1746554400-1746561600@hca-carp.ca
SUMMARY:Beavers
DESCRIPTION:
URL:https://hca-carp.ca/calendar/beavers-11/2025-05-06/
LOCATION:Mess Hall\, 2240 Craig Side Road\, Carp\, Ontario\, K0A1L0\, Canada
CATEGORIES:Facility Availability,Messhall Events
END:VEVENT
BEGIN:VEVENT
DTSTART;TZID=America/Toronto:20250507T180000
DTEND;TZID=America/Toronto:20250507T200000
DTSTAMP:20260423T000915
CREATED:20241113T190411Z
LAST-MODIFIED:20241113T190414Z
UID:10001016-1746640800-1746648000@hca-carp.ca
SUMMARY:Girl Guides
DESCRIPTION:
URL:https://hca-carp.ca/calendar/girl-guides-7/2025-05-07/
LOCATION:Mess Hall\, 2240 Craig Side Road\, Carp\, Ontario\, K0A1L0\, Canada
CATEGORIES:Facility Availability,Messhall Events
END:VEVENT
BEGIN:VEVENT
DTSTART;TZID=America/Toronto:20250508T113000
DTEND;TZID=America/Toronto:20250508T130000
DTSTAMP:20260423T000915
CREATED:20250411T150722Z
LAST-MODIFIED:20250411T150727Z
UID:10001263-1746703800-1746709200@hca-carp.ca
SUMMARY:Seniors Fitness
DESCRIPTION:
URL:https://hca-carp.ca/calendar/seniors-fitness-26/2025-05-08/
LOCATION:Mess Hall\, 2240 Craig Side Road\, Carp\, Ontario\, K0A1L0\, Canada
CATEGORIES:Facility Availability,Messhall Events
END:VEVENT
BEGIN:VEVENT
DTSTART;TZID=America/Toronto:20250508T190000
DTEND;TZID=America/Toronto:20250508T210000
DTSTAMP:20260423T000915
CREATED:20250216T180359Z
LAST-MODIFIED:20250216T180402Z
UID:10001174-1746730800-1746738000@hca-carp.ca
SUMMARY:HCA Board Meeting
DESCRIPTION:
URL:https://hca-carp.ca/calendar/hca-board-meeting-19/
LOCATION:Mess Hall\, 2240 Craig Side Road\, Carp\, Ontario\, K0A1L0\, Canada
CATEGORIES:Facility Availability,HCA Events,Messhall Events
ORGANIZER;CN="Huntley Community Association":MAILTO:info@hca-carp.ca
END:VEVENT
BEGIN:VEVENT
DTSTART;TZID=America/Toronto:20250509T000000
DTEND;TZID=America/Toronto:20250511T235959
DTSTAMP:20260423T000915
CREATED:20250216T175607Z
LAST-MODIFIED:20250216T175610Z
UID:10001169-1746748800-1747007999@hca-carp.ca
SUMMARY:Private Event
DESCRIPTION:
URL:https://hca-carp.ca/calendar/private-event-93/
LOCATION:Mess Hall\, 2240 Craig Side Road\, Carp\, Ontario\, K0A1L0\, Canada
CATEGORIES:Facility Availability,Messhall Events
END:VEVENT
BEGIN:VEVENT
DTSTART;TZID=America/Toronto:20250509T100000
DTEND;TZID=America/Toronto:20250509T120000
DTSTAMP:20260423T000915
CREATED:20250411T151034Z
LAST-MODIFIED:20250411T151316Z
UID:10001273-1746784800-1746792000@hca-carp.ca
SUMMARY:Yoga Class
DESCRIPTION:
URL:https://hca-carp.ca/calendar/yoga-class-2/2025-05-09/
LOCATION:Mess Hall\, 2240 Craig Side Road\, Carp\, Ontario\, K0A1L0\, Canada
CATEGORIES:Facility Availability,HCA Events,Messhall Events
ORGANIZER;CN="Huntley Community Association":MAILTO:info@hca-carp.ca
END:VEVENT
BEGIN:VEVENT
DTSTART;TZID=America/Toronto:20250509T190000
DTEND;TZID=America/Toronto:20250509T220000
DTSTAMP:20260423T000915
CREATED:20250411T145338Z
LAST-MODIFIED:20250411T145543Z
UID:10001180-1746817200-1746828000@hca-carp.ca
SUMMARY:Private Event
DESCRIPTION:
URL:https://hca-carp.ca/calendar/private-event-94/2025-05-09/
LOCATION:Mess Hall\, 2240 Craig Side Road\, Carp\, Ontario\, K0A1L0\, Canada
CATEGORIES:Facility Availability,HCA Events,Messhall Events
ORGANIZER;CN="Huntley Community Association":MAILTO:info@hca-carp.ca
END:VEVENT
BEGIN:VEVENT
DTSTART;TZID=America/Toronto:20250513T113000
DTEND;TZID=America/Toronto:20250513T130000
DTSTAMP:20260423T000915
CREATED:20250411T150347Z
LAST-MODIFIED:20250411T150350Z
UID:10001252-1747135800-1747141200@hca-carp.ca
SUMMARY:Seniors Fitness
DESCRIPTION:
URL:https://hca-carp.ca/calendar/seniors-fitness-25/2025-05-13/
LOCATION:Mess Hall\, 2240 Craig Side Road\, Carp\, Ontario\, K0A1L0\, Canada
CATEGORIES:Facility Availability,Messhall Events
END:VEVENT
BEGIN:VEVENT
DTSTART;TZID=America/Toronto:20250513T180000
DTEND;TZID=America/Toronto:20250513T200000
DTSTAMP:20260423T000915
CREATED:20241113T190237Z
LAST-MODIFIED:20241113T190240Z
UID:10000992-1747159200-1747166400@hca-carp.ca
SUMMARY:Beavers
DESCRIPTION:
URL:https://hca-carp.ca/calendar/beavers-11/2025-05-13/
LOCATION:Mess Hall\, 2240 Craig Side Road\, Carp\, Ontario\, K0A1L0\, Canada
CATEGORIES:Facility Availability,Messhall Events
END:VEVENT
BEGIN:VEVENT
DTSTART;TZID=America/Toronto:20250514T180000
DTEND;TZID=America/Toronto:20250514T200000
DTSTAMP:20260423T000915
CREATED:20241113T190411Z
LAST-MODIFIED:20241113T190414Z
UID:10001017-1747245600-1747252800@hca-carp.ca
SUMMARY:Girl Guides
DESCRIPTION:
URL:https://hca-carp.ca/calendar/girl-guides-7/2025-05-14/
LOCATION:Mess Hall\, 2240 Craig Side Road\, Carp\, Ontario\, K0A1L0\, Canada
CATEGORIES:Facility Availability,Messhall Events
END:VEVENT
BEGIN:VEVENT
DTSTART;TZID=America/Toronto:20250515T113000
DTEND;TZID=America/Toronto:20250515T130000
DTSTAMP:20260423T000915
CREATED:20250411T150722Z
LAST-MODIFIED:20250411T150727Z
UID:10001264-1747308600-1747314000@hca-carp.ca
SUMMARY:Seniors Fitness
DESCRIPTION:
URL:https://hca-carp.ca/calendar/seniors-fitness-26/2025-05-15/
LOCATION:Mess Hall\, 2240 Craig Side Road\, Carp\, Ontario\, K0A1L0\, Canada
CATEGORIES:Facility Availability,Messhall Events
END:VEVENT
BEGIN:VEVENT
DTSTART;TZID=America/Toronto:20250515T180000
DTEND;TZID=America/Toronto:20250515T210000
DTSTAMP:20260423T000915
CREATED:20250428T173807Z
LAST-MODIFIED:20250428T173810Z
UID:10001327-1747332000-1747342800@hca-carp.ca
SUMMARY:Ridgeside Farm Home Owners AGM
DESCRIPTION:
URL:https://hca-carp.ca/calendar/ridgeside-farm-home-owners-agm/
LOCATION:Mess Hall\, 2240 Craig Side Road\, Carp\, Ontario\, K0A1L0\, Canada
CATEGORIES:Facility Availability,Messhall Events
END:VEVENT
BEGIN:VEVENT
DTSTART;TZID=America/Toronto:20250516T100000
DTEND;TZID=America/Toronto:20250516T120000
DTSTAMP:20260423T000915
CREATED:20250411T151034Z
LAST-MODIFIED:20250411T151316Z
UID:10001274-1747389600-1747396800@hca-carp.ca
SUMMARY:Yoga Class
DESCRIPTION:
URL:https://hca-carp.ca/calendar/yoga-class-2/2025-05-16/
LOCATION:Mess Hall\, 2240 Craig Side Road\, Carp\, Ontario\, K0A1L0\, Canada
CATEGORIES:Facility Availability,HCA Events,Messhall Events
ORGANIZER;CN="Huntley Community Association":MAILTO:info@hca-carp.ca
END:VEVENT
BEGIN:VEVENT
DTSTART;TZID=America/Toronto:20250516T190000
DTEND;TZID=America/Toronto:20250516T220000
DTSTAMP:20260423T000915
CREATED:20250411T145338Z
LAST-MODIFIED:20250411T145543Z
UID:10001181-1747422000-1747432800@hca-carp.ca
SUMMARY:Private Event
DESCRIPTION:
URL:https://hca-carp.ca/calendar/private-event-94/2025-05-16/
LOCATION:Mess Hall\, 2240 Craig Side Road\, Carp\, Ontario\, K0A1L0\, Canada
CATEGORIES:Facility Availability,HCA Events,Messhall Events
ORGANIZER;CN="Huntley Community Association":MAILTO:info@hca-carp.ca
END:VEVENT
BEGIN:VEVENT
DTSTART;TZID=America/Toronto:20250517T000000
DTEND;TZID=America/Toronto:20250517T235959
DTSTAMP:20260423T000915
CREATED:20250411T153419Z
LAST-MODIFIED:20250411T153423Z
UID:10001318-1747440000-1747526399@hca-carp.ca
SUMMARY:Private Event
DESCRIPTION:
URL:https://hca-carp.ca/calendar/private-event-96/
LOCATION:Mess Hall\, 2240 Craig Side Road\, Carp\, Ontario\, K0A1L0\, Canada
CATEGORIES:Facility Availability,Messhall Events
END:VEVENT
BEGIN:VEVENT
DTSTART;TZID=America/Toronto:20250520T113000
DTEND;TZID=America/Toronto:20250520T130000
DTSTAMP:20260423T000915
CREATED:20250411T150347Z
LAST-MODIFIED:20250411T150350Z
UID:10001253-1747740600-1747746000@hca-carp.ca
SUMMARY:Seniors Fitness
DESCRIPTION:
URL:https://hca-carp.ca/calendar/seniors-fitness-25/2025-05-20/
LOCATION:Mess Hall\, 2240 Craig Side Road\, Carp\, Ontario\, K0A1L0\, Canada
CATEGORIES:Facility Availability,Messhall Events
END:VEVENT
BEGIN:VEVENT
DTSTART;TZID=America/Toronto:20250520T180000
DTEND;TZID=America/Toronto:20250520T200000
DTSTAMP:20260423T000915
CREATED:20241113T190237Z
LAST-MODIFIED:20241113T190240Z
UID:10000993-1747764000-1747771200@hca-carp.ca
SUMMARY:Beavers
DESCRIPTION:
URL:https://hca-carp.ca/calendar/beavers-11/2025-05-20/
LOCATION:Mess Hall\, 2240 Craig Side Road\, Carp\, Ontario\, K0A1L0\, Canada
CATEGORIES:Facility Availability,Messhall Events
END:VEVENT
END:VCALENDAR