BEGIN:VCALENDAR
VERSION:2.0
PRODID:-//Huntley Community Association - ECPv6.15.16//NONSGML v1.0//EN
CALSCALE:GREGORIAN
METHOD:PUBLISH
X-WR-CALNAME:Huntley Community Association
X-ORIGINAL-URL:https://hca-carp.ca
X-WR-CALDESC:Events for Huntley Community Association
REFRESH-INTERVAL;VALUE=DURATION:PT1H
X-Robots-Tag:noindex
X-PUBLISHED-TTL:PT1H
BEGIN:VTIMEZONE
TZID:America/Toronto
BEGIN:DAYLIGHT
TZOFFSETFROM:-0500
TZOFFSETTO:-0400
TZNAME:EDT
DTSTART:20240310T070000
END:DAYLIGHT
BEGIN:STANDARD
TZOFFSETFROM:-0400
TZOFFSETTO:-0500
TZNAME:EST
DTSTART:20241103T060000
END:STANDARD
BEGIN:DAYLIGHT
TZOFFSETFROM:-0500
TZOFFSETTO:-0400
TZNAME:EDT
DTSTART:20250309T070000
END:DAYLIGHT
BEGIN:STANDARD
TZOFFSETFROM:-0400
TZOFFSETTO:-0500
TZNAME:EST
DTSTART:20251102T060000
END:STANDARD
BEGIN:DAYLIGHT
TZOFFSETFROM:-0500
TZOFFSETTO:-0400
TZNAME:EDT
DTSTART:20260308T070000
END:DAYLIGHT
BEGIN:STANDARD
TZOFFSETFROM:-0400
TZOFFSETTO:-0500
TZNAME:EST
DTSTART:20261101T060000
END:STANDARD
END:VTIMEZONE
BEGIN:VEVENT
DTSTART;TZID=America/Toronto:20250620T190000
DTEND;TZID=America/Toronto:20250620T220000
DTSTAMP:20260420T232516
CREATED:20250411T145338Z
LAST-MODIFIED:20250411T145543Z
UID:10001186-1750446000-1750456800@hca-carp.ca
SUMMARY:Private Event
DESCRIPTION:
URL:https://hca-carp.ca/calendar/private-event-94/2025-06-20/
LOCATION:Mess Hall\, 2240 Craig Side Road\, Carp\, Ontario\, K0A1L0\, Canada
CATEGORIES:Facility Availability,HCA Events,Messhall Events
ORGANIZER;CN="Huntley Community Association":MAILTO:info@hca-carp.ca
END:VEVENT
BEGIN:VEVENT
DTSTART;TZID=America/Toronto:20250621T000000
DTEND;TZID=America/Toronto:20250622T235959
DTSTAMP:20260420T232516
CREATED:20250411T153906Z
LAST-MODIFIED:20250411T153909Z
UID:10001320-1750464000-1750636799@hca-carp.ca
SUMMARY:Private Event
DESCRIPTION:
URL:https://hca-carp.ca/calendar/private-event-98/
LOCATION:Mess Hall\, 2240 Craig Side Road\, Carp\, Ontario\, K0A1L0\, Canada
CATEGORIES:Facility Availability,Messhall Events
END:VEVENT
BEGIN:VEVENT
DTSTART;TZID=America/Toronto:20250624T180000
DTEND;TZID=America/Toronto:20250624T200000
DTSTAMP:20260420T232516
CREATED:20241113T190237Z
LAST-MODIFIED:20241113T190240Z
UID:10000998-1750788000-1750795200@hca-carp.ca
SUMMARY:Beavers
DESCRIPTION:
URL:https://hca-carp.ca/calendar/beavers-11/2025-06-24/
LOCATION:Mess Hall\, 2240 Craig Side Road\, Carp\, Ontario\, K0A1L0\, Canada
CATEGORIES:Facility Availability,Messhall Events
END:VEVENT
BEGIN:VEVENT
DTSTART;TZID=America/Toronto:20250625T180000
DTEND;TZID=America/Toronto:20250625T200000
DTSTAMP:20260420T232516
CREATED:20241113T190411Z
LAST-MODIFIED:20241113T190414Z
UID:10001023-1750874400-1750881600@hca-carp.ca
SUMMARY:Girl Guides
DESCRIPTION:
URL:https://hca-carp.ca/calendar/girl-guides-7/2025-06-25/
LOCATION:Mess Hall\, 2240 Craig Side Road\, Carp\, Ontario\, K0A1L0\, Canada
CATEGORIES:Facility Availability,Messhall Events
END:VEVENT
BEGIN:VEVENT
DTSTART;TZID=America/Toronto:20250627T190000
DTEND;TZID=America/Toronto:20250627T220000
DTSTAMP:20260420T232516
CREATED:20250411T145338Z
LAST-MODIFIED:20250411T145543Z
UID:10001187-1751050800-1751061600@hca-carp.ca
SUMMARY:Private Event
DESCRIPTION:
URL:https://hca-carp.ca/calendar/private-event-94/2025-06-27/
LOCATION:Mess Hall\, 2240 Craig Side Road\, Carp\, Ontario\, K0A1L0\, Canada
CATEGORIES:Facility Availability,HCA Events,Messhall Events
ORGANIZER;CN="Huntley Community Association":MAILTO:info@hca-carp.ca
END:VEVENT
BEGIN:VEVENT
DTSTART;TZID=America/Toronto:20250629T080000
DTEND;TZID=America/Toronto:20250629T150000
DTSTAMP:20260420T232516
CREATED:20250425T131709Z
LAST-MODIFIED:20250425T131712Z
UID:10001322-1751184000-1751209200@hca-carp.ca
SUMMARY:Private Event
DESCRIPTION:
URL:https://hca-carp.ca/calendar/private-event-100/
LOCATION:Mess Hall\, 2240 Craig Side Road\, Carp\, Ontario\, K0A1L0\, Canada
CATEGORIES:Facility Availability,Messhall Events
END:VEVENT
BEGIN:VEVENT
DTSTART;TZID=America/Toronto:20250630T083000
DTEND;TZID=America/Toronto:20250630T163000
DTSTAMP:20260420T232516
CREATED:20250411T152828Z
LAST-MODIFIED:20250411T153158Z
UID:10001282-1751272200-1751301000@hca-carp.ca
SUMMARY:Computer Camp
DESCRIPTION:
URL:https://hca-carp.ca/calendar/computer-camp/2025-06-30/
LOCATION:Mess Hall\, 2240 Craig Side Road\, Carp\, Ontario\, K0A1L0\, Canada
CATEGORIES:Facility Availability,Messhall Events
END:VEVENT
BEGIN:VEVENT
DTSTART;TZID=America/Toronto:20250701T083000
DTEND;TZID=America/Toronto:20250701T163000
DTSTAMP:20260420T232516
CREATED:20250411T152828Z
LAST-MODIFIED:20250411T153158Z
UID:10001283-1751358600-1751387400@hca-carp.ca
SUMMARY:Computer Camp
DESCRIPTION:
URL:https://hca-carp.ca/calendar/computer-camp/2025-07-01/
LOCATION:Mess Hall\, 2240 Craig Side Road\, Carp\, Ontario\, K0A1L0\, Canada
CATEGORIES:Facility Availability,Messhall Events
END:VEVENT
BEGIN:VEVENT
DTSTART;TZID=America/Toronto:20250702T083000
DTEND;TZID=America/Toronto:20250702T163000
DTSTAMP:20260420T232516
CREATED:20250411T152828Z
LAST-MODIFIED:20250411T153158Z
UID:10001284-1751445000-1751473800@hca-carp.ca
SUMMARY:Computer Camp
DESCRIPTION:
URL:https://hca-carp.ca/calendar/computer-camp/2025-07-02/
LOCATION:Mess Hall\, 2240 Craig Side Road\, Carp\, Ontario\, K0A1L0\, Canada
CATEGORIES:Facility Availability,Messhall Events
END:VEVENT
BEGIN:VEVENT
DTSTART;TZID=America/Toronto:20250703T083000
DTEND;TZID=America/Toronto:20250703T163000
DTSTAMP:20260420T232516
CREATED:20250411T152828Z
LAST-MODIFIED:20250411T153158Z
UID:10001285-1751531400-1751560200@hca-carp.ca
SUMMARY:Computer Camp
DESCRIPTION:
URL:https://hca-carp.ca/calendar/computer-camp/2025-07-03/
LOCATION:Mess Hall\, 2240 Craig Side Road\, Carp\, Ontario\, K0A1L0\, Canada
CATEGORIES:Facility Availability,Messhall Events
END:VEVENT
BEGIN:VEVENT
DTSTART;TZID=America/Toronto:20250704T083000
DTEND;TZID=America/Toronto:20250704T163000
DTSTAMP:20260420T232516
CREATED:20250411T152828Z
LAST-MODIFIED:20250411T153158Z
UID:10001286-1751617800-1751646600@hca-carp.ca
SUMMARY:Computer Camp
DESCRIPTION:
URL:https://hca-carp.ca/calendar/computer-camp/2025-07-04/
LOCATION:Mess Hall\, 2240 Craig Side Road\, Carp\, Ontario\, K0A1L0\, Canada
CATEGORIES:Facility Availability,Messhall Events
END:VEVENT
BEGIN:VEVENT
DTSTART;TZID=America/Toronto:20250704T190000
DTEND;TZID=America/Toronto:20250704T220000
DTSTAMP:20260420T232516
CREATED:20250411T145338Z
LAST-MODIFIED:20250411T145543Z
UID:10001188-1751655600-1751666400@hca-carp.ca
SUMMARY:Private Event
DESCRIPTION:
URL:https://hca-carp.ca/calendar/private-event-94/2025-07-04/
LOCATION:Mess Hall\, 2240 Craig Side Road\, Carp\, Ontario\, K0A1L0\, Canada
CATEGORIES:Facility Availability,HCA Events,Messhall Events
ORGANIZER;CN="Huntley Community Association":MAILTO:info@hca-carp.ca
END:VEVENT
BEGIN:VEVENT
DTSTART;TZID=America/Toronto:20250706T000000
DTEND;TZID=America/Toronto:20250706T235959
DTSTAMP:20260420T232516
CREATED:20250411T154207Z
LAST-MODIFIED:20250411T154210Z
UID:10001321-1751760000-1751846399@hca-carp.ca
SUMMARY:Private Event
DESCRIPTION:
URL:https://hca-carp.ca/calendar/private-event-99/
LOCATION:Mess Hall\, 2240 Craig Side Road\, Carp\, Ontario\, K0A1L0\, Canada
CATEGORIES:Facility Availability,Messhall Events
END:VEVENT
BEGIN:VEVENT
DTSTART;TZID=America/Toronto:20250707T083000
DTEND;TZID=America/Toronto:20250707T163000
DTSTAMP:20260420T232516
CREATED:20250411T152828Z
LAST-MODIFIED:20250411T153158Z
UID:10001289-1751877000-1751905800@hca-carp.ca
SUMMARY:Computer Camp
DESCRIPTION:
URL:https://hca-carp.ca/calendar/computer-camp/2025-07-07/
LOCATION:Mess Hall\, 2240 Craig Side Road\, Carp\, Ontario\, K0A1L0\, Canada
CATEGORIES:Facility Availability,Messhall Events
END:VEVENT
BEGIN:VEVENT
DTSTART;TZID=America/Toronto:20250708T083000
DTEND;TZID=America/Toronto:20250708T163000
DTSTAMP:20260420T232516
CREATED:20250411T152828Z
LAST-MODIFIED:20250411T153158Z
UID:10001290-1751963400-1751992200@hca-carp.ca
SUMMARY:Computer Camp
DESCRIPTION:
URL:https://hca-carp.ca/calendar/computer-camp/2025-07-08/
LOCATION:Mess Hall\, 2240 Craig Side Road\, Carp\, Ontario\, K0A1L0\, Canada
CATEGORIES:Facility Availability,Messhall Events
END:VEVENT
BEGIN:VEVENT
DTSTART;TZID=America/Toronto:20250709T083000
DTEND;TZID=America/Toronto:20250709T163000
DTSTAMP:20260420T232516
CREATED:20250411T152828Z
LAST-MODIFIED:20250411T153158Z
UID:10001291-1752049800-1752078600@hca-carp.ca
SUMMARY:Computer Camp
DESCRIPTION:
URL:https://hca-carp.ca/calendar/computer-camp/2025-07-09/
LOCATION:Mess Hall\, 2240 Craig Side Road\, Carp\, Ontario\, K0A1L0\, Canada
CATEGORIES:Facility Availability,Messhall Events
END:VEVENT
BEGIN:VEVENT
DTSTART;TZID=America/Toronto:20250710T083000
DTEND;TZID=America/Toronto:20250710T163000
DTSTAMP:20260420T232516
CREATED:20250411T152828Z
LAST-MODIFIED:20250411T153158Z
UID:10001292-1752136200-1752165000@hca-carp.ca
SUMMARY:Computer Camp
DESCRIPTION:
URL:https://hca-carp.ca/calendar/computer-camp/2025-07-10/
LOCATION:Mess Hall\, 2240 Craig Side Road\, Carp\, Ontario\, K0A1L0\, Canada
CATEGORIES:Facility Availability,Messhall Events
END:VEVENT
BEGIN:VEVENT
DTSTART;TZID=America/Toronto:20250711T083000
DTEND;TZID=America/Toronto:20250711T163000
DTSTAMP:20260420T232516
CREATED:20250411T152828Z
LAST-MODIFIED:20250411T153158Z
UID:10001293-1752222600-1752251400@hca-carp.ca
SUMMARY:Computer Camp
DESCRIPTION:
URL:https://hca-carp.ca/calendar/computer-camp/2025-07-11/
LOCATION:Mess Hall\, 2240 Craig Side Road\, Carp\, Ontario\, K0A1L0\, Canada
CATEGORIES:Facility Availability,Messhall Events
END:VEVENT
BEGIN:VEVENT
DTSTART;TZID=America/Toronto:20250711T190000
DTEND;TZID=America/Toronto:20250711T220000
DTSTAMP:20260420T232516
CREATED:20250411T145338Z
LAST-MODIFIED:20250411T145543Z
UID:10001189-1752260400-1752271200@hca-carp.ca
SUMMARY:Private Event
DESCRIPTION:
URL:https://hca-carp.ca/calendar/private-event-94/2025-07-11/
LOCATION:Mess Hall\, 2240 Craig Side Road\, Carp\, Ontario\, K0A1L0\, Canada
CATEGORIES:Facility Availability,HCA Events,Messhall Events
ORGANIZER;CN="Huntley Community Association":MAILTO:info@hca-carp.ca
END:VEVENT
BEGIN:VEVENT
DTSTART;TZID=America/Toronto:20250714T083000
DTEND;TZID=America/Toronto:20250714T163000
DTSTAMP:20260420T232516
CREATED:20250411T152828Z
LAST-MODIFIED:20250411T153158Z
UID:10001296-1752481800-1752510600@hca-carp.ca
SUMMARY:Computer Camp
DESCRIPTION:
URL:https://hca-carp.ca/calendar/computer-camp/2025-07-14/
LOCATION:Mess Hall\, 2240 Craig Side Road\, Carp\, Ontario\, K0A1L0\, Canada
CATEGORIES:Facility Availability,Messhall Events
END:VEVENT
BEGIN:VEVENT
DTSTART;TZID=America/Toronto:20250715T083000
DTEND;TZID=America/Toronto:20250715T163000
DTSTAMP:20260420T232516
CREATED:20250411T152828Z
LAST-MODIFIED:20250411T153158Z
UID:10001297-1752568200-1752597000@hca-carp.ca
SUMMARY:Computer Camp
DESCRIPTION:
URL:https://hca-carp.ca/calendar/computer-camp/2025-07-15/
LOCATION:Mess Hall\, 2240 Craig Side Road\, Carp\, Ontario\, K0A1L0\, Canada
CATEGORIES:Facility Availability,Messhall Events
END:VEVENT
BEGIN:VEVENT
DTSTART;TZID=America/Toronto:20250716T083000
DTEND;TZID=America/Toronto:20250716T163000
DTSTAMP:20260420T232516
CREATED:20250411T152828Z
LAST-MODIFIED:20250411T153158Z
UID:10001298-1752654600-1752683400@hca-carp.ca
SUMMARY:Computer Camp
DESCRIPTION:
URL:https://hca-carp.ca/calendar/computer-camp/2025-07-16/
LOCATION:Mess Hall\, 2240 Craig Side Road\, Carp\, Ontario\, K0A1L0\, Canada
CATEGORIES:Facility Availability,Messhall Events
END:VEVENT
BEGIN:VEVENT
DTSTART;TZID=America/Toronto:20250717T083000
DTEND;TZID=America/Toronto:20250717T163000
DTSTAMP:20260420T232516
CREATED:20250411T152828Z
LAST-MODIFIED:20250411T153158Z
UID:10001299-1752741000-1752769800@hca-carp.ca
SUMMARY:Computer Camp
DESCRIPTION:
URL:https://hca-carp.ca/calendar/computer-camp/2025-07-17/
LOCATION:Mess Hall\, 2240 Craig Side Road\, Carp\, Ontario\, K0A1L0\, Canada
CATEGORIES:Facility Availability,Messhall Events
END:VEVENT
BEGIN:VEVENT
DTSTART;TZID=America/Toronto:20250718T083000
DTEND;TZID=America/Toronto:20250718T163000
DTSTAMP:20260420T232516
CREATED:20250411T152828Z
LAST-MODIFIED:20250411T153158Z
UID:10001300-1752827400-1752856200@hca-carp.ca
SUMMARY:Computer Camp
DESCRIPTION:
URL:https://hca-carp.ca/calendar/computer-camp/2025-07-18/
LOCATION:Mess Hall\, 2240 Craig Side Road\, Carp\, Ontario\, K0A1L0\, Canada
CATEGORIES:Facility Availability,Messhall Events
END:VEVENT
BEGIN:VEVENT
DTSTART;TZID=America/Toronto:20250718T190000
DTEND;TZID=America/Toronto:20250718T220000
DTSTAMP:20260420T232516
CREATED:20250411T145338Z
LAST-MODIFIED:20250411T145543Z
UID:10001190-1752865200-1752876000@hca-carp.ca
SUMMARY:Private Event
DESCRIPTION:
URL:https://hca-carp.ca/calendar/private-event-94/2025-07-18/
LOCATION:Mess Hall\, 2240 Craig Side Road\, Carp\, Ontario\, K0A1L0\, Canada
CATEGORIES:Facility Availability,HCA Events,Messhall Events
ORGANIZER;CN="Huntley Community Association":MAILTO:info@hca-carp.ca
END:VEVENT
BEGIN:VEVENT
DTSTART;TZID=America/Toronto:20250721T083000
DTEND;TZID=America/Toronto:20250721T163000
DTSTAMP:20260420T232516
CREATED:20250411T152828Z
LAST-MODIFIED:20250411T153158Z
UID:10001303-1753086600-1753115400@hca-carp.ca
SUMMARY:Computer Camp
DESCRIPTION:
URL:https://hca-carp.ca/calendar/computer-camp/2025-07-21/
LOCATION:Mess Hall\, 2240 Craig Side Road\, Carp\, Ontario\, K0A1L0\, Canada
CATEGORIES:Facility Availability,Messhall Events
END:VEVENT
BEGIN:VEVENT
DTSTART;TZID=America/Toronto:20250722T083000
DTEND;TZID=America/Toronto:20250722T163000
DTSTAMP:20260420T232516
CREATED:20250411T152828Z
LAST-MODIFIED:20250411T153158Z
UID:10001304-1753173000-1753201800@hca-carp.ca
SUMMARY:Computer Camp
DESCRIPTION:
URL:https://hca-carp.ca/calendar/computer-camp/2025-07-22/
LOCATION:Mess Hall\, 2240 Craig Side Road\, Carp\, Ontario\, K0A1L0\, Canada
CATEGORIES:Facility Availability,Messhall Events
END:VEVENT
BEGIN:VEVENT
DTSTART;TZID=America/Toronto:20250723T083000
DTEND;TZID=America/Toronto:20250723T163000
DTSTAMP:20260420T232516
CREATED:20250411T152828Z
LAST-MODIFIED:20250411T153158Z
UID:10001305-1753259400-1753288200@hca-carp.ca
SUMMARY:Computer Camp
DESCRIPTION:
URL:https://hca-carp.ca/calendar/computer-camp/2025-07-23/
LOCATION:Mess Hall\, 2240 Craig Side Road\, Carp\, Ontario\, K0A1L0\, Canada
CATEGORIES:Facility Availability,Messhall Events
END:VEVENT
BEGIN:VEVENT
DTSTART;TZID=America/Toronto:20250724T083000
DTEND;TZID=America/Toronto:20250724T163000
DTSTAMP:20260420T232516
CREATED:20250411T152828Z
LAST-MODIFIED:20250411T153158Z
UID:10001306-1753345800-1753374600@hca-carp.ca
SUMMARY:Computer Camp
DESCRIPTION:
URL:https://hca-carp.ca/calendar/computer-camp/2025-07-24/
LOCATION:Mess Hall\, 2240 Craig Side Road\, Carp\, Ontario\, K0A1L0\, Canada
CATEGORIES:Facility Availability,Messhall Events
END:VEVENT
BEGIN:VEVENT
DTSTART;TZID=America/Toronto:20250725T083000
DTEND;TZID=America/Toronto:20250725T163000
DTSTAMP:20260420T232516
CREATED:20250411T152828Z
LAST-MODIFIED:20250411T153158Z
UID:10001307-1753432200-1753461000@hca-carp.ca
SUMMARY:Computer Camp
DESCRIPTION:
URL:https://hca-carp.ca/calendar/computer-camp/2025-07-25/
LOCATION:Mess Hall\, 2240 Craig Side Road\, Carp\, Ontario\, K0A1L0\, Canada
CATEGORIES:Facility Availability,Messhall Events
END:VEVENT
END:VCALENDAR