BEGIN:VCALENDAR
VERSION:2.0
PRODID:-//Huntley Community Association - ECPv6.15.16//NONSGML v1.0//EN
CALSCALE:GREGORIAN
METHOD:PUBLISH
X-WR-CALNAME:Huntley Community Association
X-ORIGINAL-URL:https://hca-carp.ca
X-WR-CALDESC:Events for Huntley Community Association
REFRESH-INTERVAL;VALUE=DURATION:PT1H
X-Robots-Tag:noindex
X-PUBLISHED-TTL:PT1H
BEGIN:VTIMEZONE
TZID:America/Toronto
BEGIN:DAYLIGHT
TZOFFSETFROM:-0500
TZOFFSETTO:-0400
TZNAME:EDT
DTSTART:20240310T070000
END:DAYLIGHT
BEGIN:STANDARD
TZOFFSETFROM:-0400
TZOFFSETTO:-0500
TZNAME:EST
DTSTART:20241103T060000
END:STANDARD
BEGIN:DAYLIGHT
TZOFFSETFROM:-0500
TZOFFSETTO:-0400
TZNAME:EDT
DTSTART:20250309T070000
END:DAYLIGHT
BEGIN:STANDARD
TZOFFSETFROM:-0400
TZOFFSETTO:-0500
TZNAME:EST
DTSTART:20251102T060000
END:STANDARD
BEGIN:DAYLIGHT
TZOFFSETFROM:-0500
TZOFFSETTO:-0400
TZNAME:EDT
DTSTART:20260308T070000
END:DAYLIGHT
BEGIN:STANDARD
TZOFFSETFROM:-0400
TZOFFSETTO:-0500
TZNAME:EST
DTSTART:20261101T060000
END:STANDARD
END:VTIMEZONE
BEGIN:VEVENT
DTSTART;TZID=America/Toronto:20250523T100000
DTEND;TZID=America/Toronto:20250523T120000
DTSTAMP:20260420T190459
CREATED:20250411T151034Z
LAST-MODIFIED:20250411T151316Z
UID:10001275-1747994400-1748001600@hca-carp.ca
SUMMARY:Yoga Class
DESCRIPTION:
URL:https://hca-carp.ca/calendar/yoga-class-2/2025-05-23/
LOCATION:Mess Hall\, 2240 Craig Side Road\, Carp\, Ontario\, K0A1L0\, Canada
CATEGORIES:Facility Availability,HCA Events,Messhall Events
ORGANIZER;CN="Huntley Community Association":MAILTO:info@hca-carp.ca
END:VEVENT
BEGIN:VEVENT
DTSTART;TZID=America/Toronto:20250523T190000
DTEND;TZID=America/Toronto:20250523T220000
DTSTAMP:20260420T190459
CREATED:20250411T145338Z
LAST-MODIFIED:20250411T145543Z
UID:10001182-1748026800-1748037600@hca-carp.ca
SUMMARY:Private Event
DESCRIPTION:
URL:https://hca-carp.ca/calendar/private-event-94/2025-05-23/
LOCATION:Mess Hall\, 2240 Craig Side Road\, Carp\, Ontario\, K0A1L0\, Canada
CATEGORIES:Facility Availability,HCA Events,Messhall Events
ORGANIZER;CN="Huntley Community Association":MAILTO:info@hca-carp.ca
END:VEVENT
BEGIN:VEVENT
DTSTART;TZID=America/Toronto:20250527T113000
DTEND;TZID=America/Toronto:20250527T130000
DTSTAMP:20260420T190459
CREATED:20250411T150347Z
LAST-MODIFIED:20250411T150350Z
UID:10001254-1748345400-1748350800@hca-carp.ca
SUMMARY:Seniors Fitness
DESCRIPTION:
URL:https://hca-carp.ca/calendar/seniors-fitness-25/2025-05-27/
LOCATION:Mess Hall\, 2240 Craig Side Road\, Carp\, Ontario\, K0A1L0\, Canada
CATEGORIES:Facility Availability,Messhall Events
END:VEVENT
BEGIN:VEVENT
DTSTART;TZID=America/Toronto:20250527T180000
DTEND;TZID=America/Toronto:20250527T200000
DTSTAMP:20260420T190459
CREATED:20241113T190237Z
LAST-MODIFIED:20241113T190240Z
UID:10000994-1748368800-1748376000@hca-carp.ca
SUMMARY:Beavers
DESCRIPTION:
URL:https://hca-carp.ca/calendar/beavers-11/2025-05-27/
LOCATION:Mess Hall\, 2240 Craig Side Road\, Carp\, Ontario\, K0A1L0\, Canada
CATEGORIES:Facility Availability,Messhall Events
END:VEVENT
BEGIN:VEVENT
DTSTART;TZID=America/Toronto:20250528T180000
DTEND;TZID=America/Toronto:20250528T200000
DTSTAMP:20260420T190459
CREATED:20241113T190411Z
LAST-MODIFIED:20241113T190414Z
UID:10001019-1748455200-1748462400@hca-carp.ca
SUMMARY:Girl Guides
DESCRIPTION:
URL:https://hca-carp.ca/calendar/girl-guides-7/2025-05-28/
LOCATION:Mess Hall\, 2240 Craig Side Road\, Carp\, Ontario\, K0A1L0\, Canada
CATEGORIES:Facility Availability,Messhall Events
END:VEVENT
BEGIN:VEVENT
DTSTART;TZID=America/Toronto:20250529T113000
DTEND;TZID=America/Toronto:20250529T130000
DTSTAMP:20260420T190459
CREATED:20250411T150722Z
LAST-MODIFIED:20250411T150727Z
UID:10001266-1748518200-1748523600@hca-carp.ca
SUMMARY:Seniors Fitness
DESCRIPTION:
URL:https://hca-carp.ca/calendar/seniors-fitness-26/2025-05-29/
LOCATION:Mess Hall\, 2240 Craig Side Road\, Carp\, Ontario\, K0A1L0\, Canada
CATEGORIES:Facility Availability,Messhall Events
END:VEVENT
BEGIN:VEVENT
DTSTART;TZID=America/Toronto:20250530T100000
DTEND;TZID=America/Toronto:20250530T120000
DTSTAMP:20260420T190459
CREATED:20250411T151034Z
LAST-MODIFIED:20250411T151316Z
UID:10001276-1748599200-1748606400@hca-carp.ca
SUMMARY:Yoga Class
DESCRIPTION:
URL:https://hca-carp.ca/calendar/yoga-class-2/2025-05-30/
LOCATION:Mess Hall\, 2240 Craig Side Road\, Carp\, Ontario\, K0A1L0\, Canada
CATEGORIES:Facility Availability,HCA Events,Messhall Events
ORGANIZER;CN="Huntley Community Association":MAILTO:info@hca-carp.ca
END:VEVENT
BEGIN:VEVENT
DTSTART;TZID=America/Toronto:20250530T190000
DTEND;TZID=America/Toronto:20250530T220000
DTSTAMP:20260420T190459
CREATED:20250411T145338Z
LAST-MODIFIED:20250411T145543Z
UID:10001183-1748631600-1748642400@hca-carp.ca
SUMMARY:Private Event
DESCRIPTION:
URL:https://hca-carp.ca/calendar/private-event-94/2025-05-30/
LOCATION:Mess Hall\, 2240 Craig Side Road\, Carp\, Ontario\, K0A1L0\, Canada
CATEGORIES:Facility Availability,HCA Events,Messhall Events
ORGANIZER;CN="Huntley Community Association":MAILTO:info@hca-carp.ca
END:VEVENT
BEGIN:VEVENT
DTSTART;TZID=America/Toronto:20250531T000000
DTEND;TZID=America/Toronto:20250531T235959
DTSTAMP:20260420T190459
CREATED:20250425T133456Z
LAST-MODIFIED:20250425T133459Z
UID:10001325-1748649600-1748735999@hca-carp.ca
SUMMARY:Private Event
DESCRIPTION:
URL:https://hca-carp.ca/calendar/private-event-103/
LOCATION:Mess Hall\, 2240 Craig Side Road\, Carp\, Ontario\, K0A1L0\, Canada
CATEGORIES:Facility Availability,Messhall Events
END:VEVENT
BEGIN:VEVENT
DTSTART;TZID=America/Toronto:20250601T000000
DTEND;TZID=America/Toronto:20250601T235959
DTSTAMP:20260420T190459
CREATED:20250521T154238Z
LAST-MODIFIED:20250521T155036Z
UID:10001339-1748736000-1748822399@hca-carp.ca
SUMMARY:Private Event
DESCRIPTION:
URL:https://hca-carp.ca/calendar/private-event/
LOCATION:Ontario
CATEGORIES:Facility Availability,Messhall Events
END:VEVENT
BEGIN:VEVENT
DTSTART;TZID=America/Toronto:20250603T113000
DTEND;TZID=America/Toronto:20250603T130000
DTSTAMP:20260420T190459
CREATED:20250411T150347Z
LAST-MODIFIED:20250411T150350Z
UID:10001255-1748950200-1748955600@hca-carp.ca
SUMMARY:Seniors Fitness
DESCRIPTION:
URL:https://hca-carp.ca/calendar/seniors-fitness-25/2025-06-03/
LOCATION:Mess Hall\, 2240 Craig Side Road\, Carp\, Ontario\, K0A1L0\, Canada
CATEGORIES:Facility Availability,Messhall Events
END:VEVENT
BEGIN:VEVENT
DTSTART;TZID=America/Toronto:20250603T180000
DTEND;TZID=America/Toronto:20250603T200000
DTSTAMP:20260420T190459
CREATED:20241113T190237Z
LAST-MODIFIED:20241113T190240Z
UID:10000995-1748973600-1748980800@hca-carp.ca
SUMMARY:Beavers
DESCRIPTION:
URL:https://hca-carp.ca/calendar/beavers-11/2025-06-03/
LOCATION:Mess Hall\, 2240 Craig Side Road\, Carp\, Ontario\, K0A1L0\, Canada
CATEGORIES:Facility Availability,Messhall Events
END:VEVENT
BEGIN:VEVENT
DTSTART;TZID=America/Toronto:20250604T180000
DTEND;TZID=America/Toronto:20250604T200000
DTSTAMP:20260420T190459
CREATED:20241113T190411Z
LAST-MODIFIED:20241113T190414Z
UID:10001020-1749060000-1749067200@hca-carp.ca
SUMMARY:Girl Guides
DESCRIPTION:
URL:https://hca-carp.ca/calendar/girl-guides-7/2025-06-04/
LOCATION:Mess Hall\, 2240 Craig Side Road\, Carp\, Ontario\, K0A1L0\, Canada
CATEGORIES:Facility Availability,Messhall Events
END:VEVENT
BEGIN:VEVENT
DTSTART;TZID=America/Toronto:20250605T113000
DTEND;TZID=America/Toronto:20250605T130000
DTSTAMP:20260420T190459
CREATED:20250411T150722Z
LAST-MODIFIED:20250411T150727Z
UID:10001267-1749123000-1749128400@hca-carp.ca
SUMMARY:Seniors Fitness
DESCRIPTION:
URL:https://hca-carp.ca/calendar/seniors-fitness-26/2025-06-05/
LOCATION:Mess Hall\, 2240 Craig Side Road\, Carp\, Ontario\, K0A1L0\, Canada
CATEGORIES:Facility Availability,Messhall Events
END:VEVENT
BEGIN:VEVENT
DTSTART;TZID=America/Toronto:20250606T100000
DTEND;TZID=America/Toronto:20250606T120000
DTSTAMP:20260420T190459
CREATED:20250411T151034Z
LAST-MODIFIED:20250411T151316Z
UID:10001277-1749204000-1749211200@hca-carp.ca
SUMMARY:Yoga Class
DESCRIPTION:
URL:https://hca-carp.ca/calendar/yoga-class-2/2025-06-06/
LOCATION:Mess Hall\, 2240 Craig Side Road\, Carp\, Ontario\, K0A1L0\, Canada
CATEGORIES:Facility Availability,HCA Events,Messhall Events
ORGANIZER;CN="Huntley Community Association":MAILTO:info@hca-carp.ca
END:VEVENT
BEGIN:VEVENT
DTSTART;TZID=America/Toronto:20250606T190000
DTEND;TZID=America/Toronto:20250606T220000
DTSTAMP:20260420T190459
CREATED:20250411T145338Z
LAST-MODIFIED:20250411T145543Z
UID:10001184-1749236400-1749247200@hca-carp.ca
SUMMARY:Private Event
DESCRIPTION:
URL:https://hca-carp.ca/calendar/private-event-94/2025-06-06/
LOCATION:Mess Hall\, 2240 Craig Side Road\, Carp\, Ontario\, K0A1L0\, Canada
CATEGORIES:Facility Availability,HCA Events,Messhall Events
ORGANIZER;CN="Huntley Community Association":MAILTO:info@hca-carp.ca
END:VEVENT
BEGIN:VEVENT
DTSTART;TZID=America/Toronto:20250607T000000
DTEND;TZID=America/Toronto:20250607T235959
DTSTAMP:20260420T190459
CREATED:20250521T154656Z
LAST-MODIFIED:20250521T154659Z
UID:10001340-1749254400-1749340799@hca-carp.ca
SUMMARY:Private Event
DESCRIPTION:
URL:https://hca-carp.ca/calendar/private-event-2/
LOCATION:Ontario
CATEGORIES:Facility Availability,Messhall Events
END:VEVENT
BEGIN:VEVENT
DTSTART;TZID=America/Toronto:20250610T113000
DTEND;TZID=America/Toronto:20250610T130000
DTSTAMP:20260420T190459
CREATED:20250411T150347Z
LAST-MODIFIED:20250411T150350Z
UID:10001256-1749555000-1749560400@hca-carp.ca
SUMMARY:Seniors Fitness
DESCRIPTION:
URL:https://hca-carp.ca/calendar/seniors-fitness-25/2025-06-10/
LOCATION:Mess Hall\, 2240 Craig Side Road\, Carp\, Ontario\, K0A1L0\, Canada
CATEGORIES:Facility Availability,Messhall Events
END:VEVENT
BEGIN:VEVENT
DTSTART;TZID=America/Toronto:20250610T180000
DTEND;TZID=America/Toronto:20250610T200000
DTSTAMP:20260420T190459
CREATED:20241113T190237Z
LAST-MODIFIED:20241113T190240Z
UID:10000996-1749578400-1749585600@hca-carp.ca
SUMMARY:Beavers
DESCRIPTION:
URL:https://hca-carp.ca/calendar/beavers-11/2025-06-10/
LOCATION:Mess Hall\, 2240 Craig Side Road\, Carp\, Ontario\, K0A1L0\, Canada
CATEGORIES:Facility Availability,Messhall Events
END:VEVENT
BEGIN:VEVENT
DTSTART;TZID=America/Toronto:20250611T180000
DTEND;TZID=America/Toronto:20250611T200000
DTSTAMP:20260420T190459
CREATED:20241113T190411Z
LAST-MODIFIED:20241113T190414Z
UID:10001021-1749664800-1749672000@hca-carp.ca
SUMMARY:Girl Guides
DESCRIPTION:
URL:https://hca-carp.ca/calendar/girl-guides-7/2025-06-11/
LOCATION:Mess Hall\, 2240 Craig Side Road\, Carp\, Ontario\, K0A1L0\, Canada
CATEGORIES:Facility Availability,Messhall Events
END:VEVENT
BEGIN:VEVENT
DTSTART;TZID=America/Toronto:20250612T113000
DTEND;TZID=America/Toronto:20250612T130000
DTSTAMP:20260420T190459
CREATED:20250411T150722Z
LAST-MODIFIED:20250411T150727Z
UID:10001268-1749727800-1749733200@hca-carp.ca
SUMMARY:Seniors Fitness
DESCRIPTION:
URL:https://hca-carp.ca/calendar/seniors-fitness-26/2025-06-12/
LOCATION:Mess Hall\, 2240 Craig Side Road\, Carp\, Ontario\, K0A1L0\, Canada
CATEGORIES:Facility Availability,Messhall Events
END:VEVENT
BEGIN:VEVENT
DTSTART;TZID=America/Toronto:20250612T190000
DTEND;TZID=America/Toronto:20250612T210000
DTSTAMP:20260420T190459
CREATED:20250216T180446Z
LAST-MODIFIED:20250216T180449Z
UID:10001175-1749754800-1749762000@hca-carp.ca
SUMMARY:HCA Board Meeting
DESCRIPTION:
URL:https://hca-carp.ca/calendar/hca-board-meeting-20/
LOCATION:Mess Hall\, 2240 Craig Side Road\, Carp\, Ontario\, K0A1L0\, Canada
CATEGORIES:Facility Availability,HCA Events,Messhall Events
ORGANIZER;CN="Huntley Community Association":MAILTO:info@hca-carp.ca
END:VEVENT
BEGIN:VEVENT
DTSTART;TZID=America/Toronto:20250613T000000
DTEND;TZID=America/Toronto:20250615T235959
DTSTAMP:20260420T190459
CREATED:20250411T153758Z
LAST-MODIFIED:20250411T153801Z
UID:10001319-1749772800-1750031999@hca-carp.ca
SUMMARY:Private Event
DESCRIPTION:
URL:https://hca-carp.ca/calendar/private-event-97/
LOCATION:Mess Hall\, 2240 Craig Side Road\, Carp\, Ontario\, K0A1L0\, Canada
CATEGORIES:Facility Availability,Messhall Events
END:VEVENT
BEGIN:VEVENT
DTSTART;TZID=America/Toronto:20250613T100000
DTEND;TZID=America/Toronto:20250613T120000
DTSTAMP:20260420T190459
CREATED:20250411T151034Z
LAST-MODIFIED:20250411T151316Z
UID:10001278-1749808800-1749816000@hca-carp.ca
SUMMARY:Yoga Class
DESCRIPTION:
URL:https://hca-carp.ca/calendar/yoga-class-2/2025-06-13/
LOCATION:Mess Hall\, 2240 Craig Side Road\, Carp\, Ontario\, K0A1L0\, Canada
CATEGORIES:Facility Availability,HCA Events,Messhall Events
ORGANIZER;CN="Huntley Community Association":MAILTO:info@hca-carp.ca
END:VEVENT
BEGIN:VEVENT
DTSTART;TZID=America/Toronto:20250613T190000
DTEND;TZID=America/Toronto:20250613T220000
DTSTAMP:20260420T190459
CREATED:20250411T145338Z
LAST-MODIFIED:20250411T145543Z
UID:10001185-1749841200-1749852000@hca-carp.ca
SUMMARY:Private Event
DESCRIPTION:
URL:https://hca-carp.ca/calendar/private-event-94/2025-06-13/
LOCATION:Mess Hall\, 2240 Craig Side Road\, Carp\, Ontario\, K0A1L0\, Canada
CATEGORIES:Facility Availability,HCA Events,Messhall Events
ORGANIZER;CN="Huntley Community Association":MAILTO:info@hca-carp.ca
END:VEVENT
BEGIN:VEVENT
DTSTART;TZID=America/Toronto:20250617T113000
DTEND;TZID=America/Toronto:20250617T130000
DTSTAMP:20260420T190459
CREATED:20250411T150347Z
LAST-MODIFIED:20250411T150350Z
UID:10001257-1750159800-1750165200@hca-carp.ca
SUMMARY:Seniors Fitness
DESCRIPTION:
URL:https://hca-carp.ca/calendar/seniors-fitness-25/2025-06-17/
LOCATION:Mess Hall\, 2240 Craig Side Road\, Carp\, Ontario\, K0A1L0\, Canada
CATEGORIES:Facility Availability,Messhall Events
END:VEVENT
BEGIN:VEVENT
DTSTART;TZID=America/Toronto:20250617T180000
DTEND;TZID=America/Toronto:20250617T200000
DTSTAMP:20260420T190459
CREATED:20241113T190237Z
LAST-MODIFIED:20241113T190240Z
UID:10000997-1750183200-1750190400@hca-carp.ca
SUMMARY:Beavers
DESCRIPTION:
URL:https://hca-carp.ca/calendar/beavers-11/2025-06-17/
LOCATION:Mess Hall\, 2240 Craig Side Road\, Carp\, Ontario\, K0A1L0\, Canada
CATEGORIES:Facility Availability,Messhall Events
END:VEVENT
BEGIN:VEVENT
DTSTART;TZID=America/Toronto:20250618T180000
DTEND;TZID=America/Toronto:20250618T200000
DTSTAMP:20260420T190459
CREATED:20241113T190411Z
LAST-MODIFIED:20241113T190414Z
UID:10001022-1750269600-1750276800@hca-carp.ca
SUMMARY:Girl Guides
DESCRIPTION:
URL:https://hca-carp.ca/calendar/girl-guides-7/2025-06-18/
LOCATION:Mess Hall\, 2240 Craig Side Road\, Carp\, Ontario\, K0A1L0\, Canada
CATEGORIES:Facility Availability,Messhall Events
END:VEVENT
BEGIN:VEVENT
DTSTART;TZID=America/Toronto:20250619T113000
DTEND;TZID=America/Toronto:20250619T130000
DTSTAMP:20260420T190459
CREATED:20250411T150722Z
LAST-MODIFIED:20250411T150727Z
UID:10001269-1750332600-1750338000@hca-carp.ca
SUMMARY:Seniors Fitness
DESCRIPTION:
URL:https://hca-carp.ca/calendar/seniors-fitness-26/2025-06-19/
LOCATION:Mess Hall\, 2240 Craig Side Road\, Carp\, Ontario\, K0A1L0\, Canada
CATEGORIES:Facility Availability,Messhall Events
END:VEVENT
BEGIN:VEVENT
DTSTART;TZID=America/Toronto:20250620T100000
DTEND;TZID=America/Toronto:20250620T120000
DTSTAMP:20260420T190459
CREATED:20250411T151034Z
LAST-MODIFIED:20250411T151316Z
UID:10001279-1750413600-1750420800@hca-carp.ca
SUMMARY:Yoga Class
DESCRIPTION:
URL:https://hca-carp.ca/calendar/yoga-class-2/2025-06-20/
LOCATION:Mess Hall\, 2240 Craig Side Road\, Carp\, Ontario\, K0A1L0\, Canada
CATEGORIES:Facility Availability,HCA Events,Messhall Events
ORGANIZER;CN="Huntley Community Association":MAILTO:info@hca-carp.ca
END:VEVENT
END:VCALENDAR