BEGIN:VCALENDAR
VERSION:2.0
PRODID:-//Huntley Community Association - ECPv6.15.16//NONSGML v1.0//EN
CALSCALE:GREGORIAN
METHOD:PUBLISH
X-WR-CALNAME:Huntley Community Association
X-ORIGINAL-URL:https://hca-carp.ca
X-WR-CALDESC:Events for Huntley Community Association
REFRESH-INTERVAL;VALUE=DURATION:PT1H
X-Robots-Tag:noindex
X-PUBLISHED-TTL:PT1H
BEGIN:VTIMEZONE
TZID:America/Toronto
BEGIN:DAYLIGHT
TZOFFSETFROM:-0500
TZOFFSETTO:-0400
TZNAME:EDT
DTSTART:20240310T070000
END:DAYLIGHT
BEGIN:STANDARD
TZOFFSETFROM:-0400
TZOFFSETTO:-0500
TZNAME:EST
DTSTART:20241103T060000
END:STANDARD
BEGIN:DAYLIGHT
TZOFFSETFROM:-0500
TZOFFSETTO:-0400
TZNAME:EDT
DTSTART:20250309T070000
END:DAYLIGHT
BEGIN:STANDARD
TZOFFSETFROM:-0400
TZOFFSETTO:-0500
TZNAME:EST
DTSTART:20251102T060000
END:STANDARD
BEGIN:DAYLIGHT
TZOFFSETFROM:-0500
TZOFFSETTO:-0400
TZNAME:EDT
DTSTART:20260308T070000
END:DAYLIGHT
BEGIN:STANDARD
TZOFFSETFROM:-0400
TZOFFSETTO:-0500
TZNAME:EST
DTSTART:20261101T060000
END:STANDARD
END:VTIMEZONE
BEGIN:VEVENT
DTSTART;TZID=America/Toronto:20250906T080000
DTEND;TZID=America/Toronto:20250906T170000
DTSTAMP:20260420T054457
CREATED:20250901T181505Z
LAST-MODIFIED:20250901T185751Z
UID:10001359-1757145600-1757178000@hca-carp.ca
SUMMARY:Private Event
DESCRIPTION:
URL:https://hca-carp.ca/calendar/private-event-37/
LOCATION:Ontario
CATEGORIES:Facility Availability,Messhall Events
END:VEVENT
BEGIN:VEVENT
DTSTART;TZID=America/Toronto:20250913T000000
DTEND;TZID=America/Toronto:20250913T235959
DTSTAMP:20260420T054457
CREATED:20250425T132256Z
LAST-MODIFIED:20250425T132300Z
UID:10001323-1757721600-1757807999@hca-carp.ca
SUMMARY:Private Event
DESCRIPTION:
URL:https://hca-carp.ca/calendar/private-event-101/
LOCATION:Mess Hall\, 2240 Craig Side Road\, Carp\, Ontario\, K0A1L0\, Canada
CATEGORIES:Facility Availability,Messhall Events
END:VEVENT
BEGIN:VEVENT
DTSTART;TZID=America/Toronto:20250920T000000
DTEND;TZID=America/Toronto:20250920T235959
DTSTAMP:20260420T054457
CREATED:20250729T183116Z
LAST-MODIFIED:20250729T183148Z
UID:10001356-1758326400-1758412799@hca-carp.ca
SUMMARY:Private Event
DESCRIPTION:
URL:https://hca-carp.ca/calendar/private-event-34/
LOCATION:Ontario
CATEGORIES:Facility Availability,Messhall Events
END:VEVENT
END:VCALENDAR