BEGIN:VCALENDAR
VERSION:2.0
PRODID:-//Huntley Community Association - ECPv6.15.16//NONSGML v1.0//EN
CALSCALE:GREGORIAN
METHOD:PUBLISH
X-WR-CALNAME:Huntley Community Association
X-ORIGINAL-URL:https://hca-carp.ca
X-WR-CALDESC:Events for Huntley Community Association
REFRESH-INTERVAL;VALUE=DURATION:PT1H
X-Robots-Tag:noindex
X-PUBLISHED-TTL:PT1H
BEGIN:VTIMEZONE
TZID:America/Toronto
BEGIN:DAYLIGHT
TZOFFSETFROM:-0500
TZOFFSETTO:-0400
TZNAME:EDT
DTSTART:20240310T070000
END:DAYLIGHT
BEGIN:STANDARD
TZOFFSETFROM:-0400
TZOFFSETTO:-0500
TZNAME:EST
DTSTART:20241103T060000
END:STANDARD
BEGIN:DAYLIGHT
TZOFFSETFROM:-0500
TZOFFSETTO:-0400
TZNAME:EDT
DTSTART:20250309T070000
END:DAYLIGHT
BEGIN:STANDARD
TZOFFSETFROM:-0400
TZOFFSETTO:-0500
TZNAME:EST
DTSTART:20251102T060000
END:STANDARD
BEGIN:DAYLIGHT
TZOFFSETFROM:-0500
TZOFFSETTO:-0400
TZNAME:EDT
DTSTART:20260308T070000
END:DAYLIGHT
BEGIN:STANDARD
TZOFFSETFROM:-0400
TZOFFSETTO:-0500
TZNAME:EST
DTSTART:20261101T060000
END:STANDARD
END:VTIMEZONE
BEGIN:VEVENT
DTSTART;TZID=America/Toronto:20250801T083000
DTEND;TZID=America/Toronto:20250801T163000
DTSTAMP:20260420T071239
CREATED:20250411T152828Z
LAST-MODIFIED:20250411T153158Z
UID:10001314-1754037000-1754065800@hca-carp.ca
SUMMARY:Computer Camp
DESCRIPTION:
URL:https://hca-carp.ca/calendar/computer-camp/2025-08-01/
LOCATION:Mess Hall\, 2240 Craig Side Road\, Carp\, Ontario\, K0A1L0\, Canada
CATEGORIES:Facility Availability,Messhall Events
END:VEVENT
BEGIN:VEVENT
DTSTART;TZID=America/Toronto:20250804T083000
DTEND;TZID=America/Toronto:20250804T163000
DTSTAMP:20260420T071239
CREATED:20250411T152828Z
LAST-MODIFIED:20250411T153158Z
UID:10001317-1754296200-1754325000@hca-carp.ca
SUMMARY:Computer Camp
DESCRIPTION:
URL:https://hca-carp.ca/calendar/computer-camp/2025-08-04/
LOCATION:Mess Hall\, 2240 Craig Side Road\, Carp\, Ontario\, K0A1L0\, Canada
CATEGORIES:Facility Availability,Messhall Events
END:VEVENT
BEGIN:VEVENT
DTSTART;TZID=America/Toronto:20250808T080000
DTEND;TZID=America/Toronto:20250809T170000
DTSTAMP:20260420T071239
CREATED:20250521T164407Z
LAST-MODIFIED:20250521T164409Z
UID:10001341-1754640000-1754758800@hca-carp.ca
SUMMARY:Private Event
DESCRIPTION:
URL:https://hca-carp.ca/calendar/private-event-3/
LOCATION:Ontario
CATEGORIES:Facility Availability,Messhall Events
END:VEVENT
BEGIN:VEVENT
DTSTART;TZID=America/Toronto:20250817T000000
DTEND;TZID=America/Toronto:20250817T235959
DTSTAMP:20260420T071239
CREATED:20250425T132956Z
LAST-MODIFIED:20250425T132959Z
UID:10001324-1755388800-1755475199@hca-carp.ca
SUMMARY:Private Event
DESCRIPTION:
URL:https://hca-carp.ca/calendar/private-event-102/
LOCATION:Mess Hall\, 2240 Craig Side Road\, Carp\, Ontario\, K0A1L0\, Canada
CATEGORIES:Facility Availability,Messhall Events
END:VEVENT
BEGIN:VEVENT
DTSTART;TZID=America/Toronto:20250826T000000
DTEND;TZID=America/Toronto:20250826T235959
DTSTAMP:20260420T071239
CREATED:20250727T175730Z
LAST-MODIFIED:20250727T175733Z
UID:10001350-1756166400-1756252799@hca-carp.ca
SUMMARY:Private Event
DESCRIPTION:
URL:https://hca-carp.ca/calendar/private-event-30/
LOCATION:Ontario
CATEGORIES:Facility Availability,Messhall Events
END:VEVENT
BEGIN:VEVENT
DTSTART;TZID=America/Toronto:20250826T000000
DTEND;TZID=America/Toronto:20250826T235959
DTSTAMP:20260420T071239
CREATED:20250729T182955Z
LAST-MODIFIED:20250729T182959Z
UID:10001355-1756166400-1756252799@hca-carp.ca
SUMMARY:Private Event
DESCRIPTION:
URL:https://hca-carp.ca/calendar/private-event-33/
LOCATION:Ontario
CATEGORIES:Facility Availability,Messhall Events
END:VEVENT
END:VCALENDAR